BEGIN:VCALENDAR
VERSION:2.0
PRODID:-//InvisionCommunity Events 4.7.14//EN
METHOD:PUBLISH
CALSCALE:GREGORIAN
REFRESH-INTERVAL:PT15M
X-PUBLISHED-TTL:PT15M
X-WR-CALNAME:The Elder Scrolls Online
NAME:The Elder Scrolls Online
BEGIN:VTIMEZONE
TZID:Europe/London
TZURL:http://tzurl.org/zoneinfo/Europe/London
X-LIC-LOCATION:Europe/London
BEGIN:DAYLIGHT
TZOFFSETFROM:+0000
TZOFFSETTO:+0100
TZNAME:BST
DTSTART:20190331T020000Z
RRULE:FREQ=YEARLY;BYMONTH=3;BYDAY=-1SU
END:DAYLIGHT
BEGIN:STANDARD
TZOFFSETFROM:+0100
TZOFFSETTO:+0000
TZNAME:GMT
DTSTART:20191027T020000Z
RRULE:FREQ=YEARLY;BYMONTH=10;BYDAY=-1SU
END:STANDARD
END:VTIMEZONE
BEGIN:VEVENT
SUMMARY:(TESO) СЕМИНАР \"Изменения игрово
	й механики\" ч.1
DTSTAMP:20190318T033626Z
SEQUENCE:1
UID:5177-1-afb15bc42254ad5fb0481ce5e9c8144d@forum.bandits-clan.ru
ORGANIZER;CN="Bandit":web@bandits-clan.ru
DESCRIPTION:С 15 00 по Мск\n\nЦик
	л семинаров \"Л
	УЧШИЕ из ЛУЧШ
	ИХ\" продолжа
	ется семинаром 
	на тему \"Измене
	ния игровой меха
	ники с обновлением 2
	1 в игре. Часть первая
	 - хилеры(темплары) и т
	анки(дк).\"\nЧасть в
	торая будет посвя
	щена дд.\n\nВас ждет обзор н
	овых приемов\, сетов и механик 
	от @Lisbrainy и @Zymel - ваших люб
	имых авторов и в
	едущих.\n\nТимспик\
	, канал Гильдия бойцов. При
	глашаются все желающие.\n\nНе пропустите!
DTSTART:20190323T120000Z
END:VEVENT
END:VCALENDAR
