BEGIN:VCALENDAR
VERSION:2.0
PRODID:-//InvisionCommunity Events 4.7.14//EN
METHOD:PUBLISH
CALSCALE:GREGORIAN
REFRESH-INTERVAL:PT15M
X-PUBLISHED-TTL:PT15M
X-WR-CALNAME:The Elder Scrolls Online
NAME:The Elder Scrolls Online
BEGIN:VTIMEZONE
TZID:Europe/London
TZURL:http://tzurl.org/zoneinfo/Europe/London
X-LIC-LOCATION:Europe/London
BEGIN:DAYLIGHT
TZOFFSETFROM:+0000
TZOFFSETTO:+0100
TZNAME:BST
DTSTART:20190331T020000Z
RRULE:FREQ=YEARLY;BYMONTH=3;BYDAY=-1SU
END:DAYLIGHT
BEGIN:STANDARD
TZOFFSETFROM:+0100
TZOFFSETTO:+0000
TZNAME:GMT
DTSTART:20191027T020000Z
RRULE:FREQ=YEARLY;BYMONTH=10;BYDAY=-1SU
END:STANDARD
END:VTIMEZONE
BEGIN:VEVENT
SUMMARY:(TESO) Тестовый рейд Stalhrim - AS+1 отбор
DTSTAMP:20190315T045036Z
SEQUENCE:0
UID:5163-1-afb15bc42254ad5fb0481ce5e9c8144d@forum.bandits-clan.ru
ORGANIZER;CN="Bandit":web@bandits-clan.ru
DESCRIPTION:С 16 30 по Мск
	 Рейд сибирск
	ого прайм-тайм
	а приглашает в с
	вои ряды тех\, 
	кто желает п
	опробовать 
	свои силы в ха
	й-энд контенте
	 игры. Сегодн
	я мы проведем
	 отборочный р
	ейд - пойдем в 
	триал Завод
	ного города 
	Асилум Санктори
	ум. Если вы хотите
	 в дальнейшем ре
	йдить и покорят
	ь dlc-контент игр
	ы\, добро пож
	аловать! Требования пр
	и отборе: Мана-дд. Установ
	ленный аддон (BUI\, FTC\, 
	CM или другой) 
	позволяющий линкова
	ть свой дпс в чат группы. Уст
	ановленный аддон Asylum Tracker.\nЗван
	ие: от Bandit/Guard. Приоритет на игроко
	в с более высоким званием.
DTSTART:20190319T133000Z
ATTENDEE;CN="GKS";CUTYPE=INDIVIDUAL;PARTSTAT=ACCEPTED:web@ba
	ndits-clan.ru
ATTENDEE;CN="Bandit";CUTYPE=INDIVIDUAL;PARTSTAT=ACCEPTED:web
	@bandits-clan.ru
ATTENDEE;CN="ya_ranim";CUTYPE=INDIVIDUAL;PARTSTAT=ACCEPTED:w
	eb@bandits-clan.ru
ATTENDEE;CN="botannik";CUTYPE=INDIVIDUAL;PARTSTAT=ACCEPTED:w
	eb@bandits-clan.ru
ATTENDEE;CN="Necroblaster";CUTYPE=INDIVIDUAL;PARTSTAT=ACCEPT
	ED:web@bandits-clan.ru
END:VEVENT
END:VCALENDAR
