BEGIN:VCALENDAR
VERSION:2.0
PRODID:-//InvisionCommunity Events 4.7.14//EN
METHOD:PUBLISH
CALSCALE:GREGORIAN
REFRESH-INTERVAL:PT15M
X-PUBLISHED-TTL:PT15M
X-WR-CALNAME:The Elder Scrolls Online
NAME:The Elder Scrolls Online
BEGIN:VTIMEZONE
TZID:Europe/London
TZURL:http://tzurl.org/zoneinfo/Europe/London
X-LIC-LOCATION:Europe/London
BEGIN:DAYLIGHT
TZOFFSETFROM:+0000
TZOFFSETTO:+0100
TZNAME:BST
DTSTART:20190331T020000Z
RRULE:FREQ=YEARLY;BYMONTH=3;BYDAY=-1SU
END:DAYLIGHT
BEGIN:STANDARD
TZOFFSETFROM:+0100
TZOFFSETTO:+0000
TZNAME:GMT
DTSTART:20191027T020000Z
RRULE:FREQ=YEARLY;BYMONTH=10;BYDAY=-1SU
END:STANDARD
END:VTIMEZONE
BEGIN:VEVENT
SUMMARY:[TESO] Cloudrest farm
DTSTAMP:20190312T074623Z
SEQUENCE:0
UID:5158-1-afb15bc42254ad5fb0481ce5e9c8144d@forum.bandits-clan.ru
ORGANIZER;CN="Hoft":web@bandits-clan.ru
DESCRIPTION:\nЕсли собер
	ется сильная коман
	да то фармим вет+1 и
	наче нормал+3\n\
	nУточнение: Эт
	о ФАРМОВОЕ соб
	ытие. На него пр
	иходят опытные и
	гроки. Если вы е
	ще не знаете К
	лаудрест \"назу
	бок\" то ходи
	те пожалуйс
	та сначала в об
	учающие рейды. Ф
	арм предполага
	ет быстрые заходы 
	(10 мин максимум) а не 
	полуторачасовую возню
	.\n\nТребование: TS\, табард гильдии.\n\n
	Оповещения:\nVoltaic Overload 13
	 - Через 3 сек
	унды активна
	я панель буд
	ет перегруж
	ена. Подставит
	ь бэк панель\, 
	при появлении
	 перегрузки свапн
	уться на мейн\, н
	е менять пока таймер не до
	йдет до 0 и оповещение не пропадет.\nRoar
	ing Flare on [Name] 7 - Через 2 секунды
	 на [Name] появится горелка и пото
	м рванет через 5 секунд.\nHoa
	rfrost 7 - Вы подняли ветер\
	, сбросить его можно будет через 7 секунд.
	\nPortal to Shadow world: Group 1/2 - Через 2
	 секунды появится портал. Группа 1
	/2 бежит в центр.\nChilling Comet 
	2 - Через 2 секунды на вас упадет
	 комета. Расстак и блок.\nCrushing Da
	rkness 10 - Через 3 секун
	ды на вас будет луч. Кайт
	им его в течении последующих 7 с
	екунд.\nScalding Sunder 2 - Хеви атака боса. Рол
	л-додж.\nTalon Slice 0.6 - Гр
	ифон царапаеццо.
	 Если до оповещения не сдела
	ть ролл-додж то уже поздно (650мс)...\nNo
	cturnal's Favor 2 - З'маджа дас
	т хеви атаку через 
	2сек+расстояние. Танк не о
	тпускает блок\, дд - труп. Не доджится.\nBanef
	ul Barb 1.6 - Yagra Monstrosity даст дебаф через 1
	200мс. Ролл-додж.\nCorpulence 2.6 - Yagra Monst
	rosity даст хеви атаку че
	рез 2600мс. Дождаться
	 когда таймер будет
	 на 1 и сделать рол
	л-додж\, ну или драпать о
	т неё в истерике (тоже помогает).\n\nАддоны
	:\n- GroupLootNotifier http://www.esoui.com...otNotifier.html. Дл
	я всех кто собирает 
	сет\, особенно в т
	риалах. Очень \"л
	егкий\" аддон\
	, минимальна
	я нагрузка на
	 память и ресу
	рсы. Крайне инфо
	рмативен. Показ
	ывает кому что у
	пало (сразу с 
	трейтами)\, 
	все кликабе
	льное. Вклю
	чайте в нас
	тройках по
	следний ав
	тофильтр и из ча
	та пропадет флуд состоящий из
	 говнотрейтового дропа.\n- Bandits User Interface http
	://forum.bandits...showtopic=58009. Наш ги
	льдейский 
	аддон. По с
	воим возм
	ожностям и
	 низкой н
	агрузке н
	а вычисли
	тельные ре
	сурсы на с
	егодняшни
	й день пре
	восходит пр
	очие аддоны
	 интерфейс
	а. Хилам и
	меть обяза
	тельно пот
	ому что они
	 получают с
	воевременны
	е оповещения 
	о горне или 
	просадке гр
	уппы/танка по ре
	сурсам. Дает край
	не важные оповещ
	ения в триалах.
	\n- Для танка:
	 Включить в ра
	зделе настро
	ек цели Бандитск
	ого интерфейса т
	аунт трекер.\n\nЧтобы
	 сэкономить время:
	\n- Прошу приходить
	 за 15 минут до нача
	ла события сразу в 
	канал Триалы в Т
	С.\n- Правильно
	 выставлять роли
	.\n- Заблаговрем
	енно скрафтит
	ь/попросить ед
	у/банки.\n- Пр
	осматрива
	ем лут и до
	говариваем
	ся о передаче
	 после убийства п
	оследнего босса. Же
	лательно в личку а не голосом в Т
	С.\n- Носите с собой Grand Rep
	air Kit (можно получи
	ть за крафтовые
	 дейлики\, приобретае
	тся у вендоров\, а л
	учше в гильд стор
	ах)\n- В ТС не флу
	дим. Только ко
	нструктивная ин
	формация («горн»\,
	 «внизу/ввурху»\, 
	«не вставай/встав
	ай»\, пр.). Обсужд
	аем то что вас
	 волнует толь
	ко во время п
	ерерывов. Не р
	ассказываем 
	как вам обидн
	о что упали/з
	атупили/лагну
	ло\, не оправ
	дываемся если Р
	Л отметил лично 
	вашу ошибку. Да
	вайте экономить время.
	\n- После входа в холл данжа отклю
	чите тени\, Subsampling quality на
	 нормал\, миниму
	м частиц. Ни в кое
	м случае не заним
	айтесь этим во время рейда.\n- 
	На время рейда отключите Master Merchant\, Harvest Ma
	p\, RuESO.
DTSTART:20190313T180000Z
ATTENDEE;CN="Hoft";CUTYPE=INDIVIDUAL;PARTSTAT=ACCEPTED:web@b
	andits-clan.ru
ATTENDEE;CN="KNJAZ";CUTYPE=INDIVIDUAL;PARTSTAT=ACCEPTED:web@
	bandits-clan.ru
ATTENDEE;CN="Ragga-Max";CUTYPE=INDIVIDUAL;PARTSTAT=ACCEPTED:
	web@bandits-clan.ru
ATTENDEE;CN="Semeckiy ";CUTYPE=INDIVIDUAL;PARTSTAT=ACCEPTED:
	web@bandits-clan.ru
END:VEVENT
END:VCALENDAR
