BEGIN:VCALENDAR
VERSION:2.0
PRODID:-//InvisionCommunity Events 4.7.14//EN
METHOD:PUBLISH
CALSCALE:GREGORIAN
REFRESH-INTERVAL:PT15M
X-PUBLISHED-TTL:PT15M
X-WR-CALNAME:The Elder Scrolls Online
NAME:The Elder Scrolls Online
BEGIN:VTIMEZONE
TZID:Europe/London
TZURL:http://tzurl.org/zoneinfo/Europe/London
X-LIC-LOCATION:Europe/London
BEGIN:DAYLIGHT
TZOFFSETFROM:+0000
TZOFFSETTO:+0100
TZNAME:BST
DTSTART:20190331T020000Z
RRULE:FREQ=YEARLY;BYMONTH=3;BYDAY=-1SU
END:DAYLIGHT
BEGIN:STANDARD
TZOFFSETFROM:+0100
TZOFFSETTO:+0000
TZNAME:GMT
DTSTART:20191027T020000Z
RRULE:FREQ=YEARLY;BYMONTH=10;BYDAY=-1SU
END:STANDARD
END:VTIMEZONE
BEGIN:VEVENT
SUMMARY:[TESO] Публичные подземелья Пакта
DTSTAMP:20190303T233936Z
SEQUENCE:0
UID:5105-1-afb15bc42254ad5fb0481ce5e9c8144d@forum.bandits-clan.ru
ORGANIZER;CN="FreeDown":web@bandits-clan.ru
DESCRIPTION:Приглаш
	аются все желающие з
	акрыть публичные подземелья в
	 землях Пакта:\n- Hall of the Dead (Зал мертвы
	х)\, Истмарк\n- Lion's Den (Львиное логово
	)\, Рифт\n- Crow's Wood (Вороний лес)\, Стоунфол
	з\n- Forgotten Crypts (забытые крипты)\, Дешаан\n- 
	Sanguine's Demesne (Владени
	я Сангвина)\, Ш
	едоуфен Прохо
	ждение подзмел
	елья включает в 
	себя:\n- сбор ска
	йшардов (в каждом 
	подземелье всегда е
	сть один скайшард\,
	 3 скайшарда = 1 ск
	иллпоинт)\n- 
	выполнение
	 группового
	 задания (в ка
	ждом подзем
	елье всегда ес
	ть одно групповое
	 задание\, за вы
	полнение которог
	о дают 1 скиллпои
	нт)\n- выполнение квес
	тов\, связанных с по
	дземельем (обычно 1
	-2 квеста)\n- уби
	йство всех
	 боссов (о
	бычно не 
	менее пят
	и боссов)
	 Продолжите
	льность меро
	приятия ориентир
	овочно 3 часа. Тр
	ебования:\n- уровен
	ь персонажа любой\
	n- альянс персона
	жа любой\n- табар
	д (накидка гильди
	и\, покупается в гильдейском ма
	газине)\n- тимспик\, канал &lt\;World Boss Academy&gt\;
DTSTART:20190422T180000Z
ATTENDEE;CN="FreeDown";CUTYPE=INDIVIDUAL;PARTSTAT=ACCEPTED:w
	eb@bandits-clan.ru
ATTENDEE;CN="hakkanistorm";CUTYPE=INDIVIDUAL;PARTSTAT=ACCEPT
	ED:web@bandits-clan.ru
ATTENDEE;CN="Legrat";CUTYPE=INDIVIDUAL;PARTSTAT=ACCEPTED:web
	@bandits-clan.ru
ATTENDEE;CN="vadims55";CUTYPE=INDIVIDUAL;PARTSTAT=ACCEPTED:w
	eb@bandits-clan.ru
ATTENDEE;CN="Damn vegan";CUTYPE=INDIVIDUAL;PARTSTAT=ACCEPTED
	:web@bandits-clan.ru
ATTENDEE;CN="Zefir'ra";CUTYPE=INDIVIDUAL;PARTSTAT=ACCEPTED:w
	eb@bandits-clan.ru
END:VEVENT
END:VCALENDAR
