BEGIN:VCALENDAR
VERSION:2.0
PRODID:-//InvisionCommunity Events 4.7.14//EN
METHOD:PUBLISH
CALSCALE:GREGORIAN
REFRESH-INTERVAL:PT15M
X-PUBLISHED-TTL:PT15M
X-WR-CALNAME:The Elder Scrolls Online
NAME:The Elder Scrolls Online
BEGIN:VTIMEZONE
TZID:Europe/London
TZURL:http://tzurl.org/zoneinfo/Europe/London
X-LIC-LOCATION:Europe/London
BEGIN:DAYLIGHT
TZOFFSETFROM:+0000
TZOFFSETTO:+0100
TZNAME:BST
DTSTART:20190331T020000Z
RRULE:FREQ=YEARLY;BYMONTH=3;BYDAY=-1SU
END:DAYLIGHT
BEGIN:STANDARD
TZOFFSETFROM:+0100
TZOFFSETTO:+0000
TZNAME:GMT
DTSTART:20191027T020000Z
RRULE:FREQ=YEARLY;BYMONTH=10;BYDAY=-1SU
END:STANDARD
END:VTIMEZONE
BEGIN:VEVENT
SUMMARY:[TESO] Cloudrest farm
DTSTAMP:20190218T160740Z
SEQUENCE:0
UID:5054-1-afb15bc42254ad5fb0481ce5e9c8144d@forum.bandits-clan.ru
ORGANIZER;CN="Hoft":web@bandits-clan.ru
DESCRIPTION: Если собе
	рется сильная 
	команда то фарм
	им вет+1 иначе н
	ормал+3 Уточне
	ние: Это ФАРМОВ
	ОЕ событие. На
	 него приходят о
	пытные игроки. Е
	сли вы еще не зн
	аете Клаудрест
	 \"назубок\" то
	 ходите пож
	алуйста сначал
	а в обучающие рей
	ды. Фарм предпо
	лагает быстрые
	 заходы (10 мин макс
	имум) а не полу
	торачасовую возню. Треб
	ование: TS\, табард гильдии. Оповещен
	ия:\nVoltaic Overload 13 - Через
	 3 секунды акти
	вная панель 
	будет перег
	ружена. Подс
	тавить бэк пан
	ель\, при появл
	ении перегрузки 
	свапнуться на мей
	н\, не менять пока тайме
	р не дойдет до 0 и оповещение не пропаде
	т.\nRoaring Flare on [Name] 7 - Через 2 секу
	нды на [Name] появится горелка 
	и потом рванет через 5 секунд
	.\nHoarfrost 7 - Вы подняли в
	етер\, сбросить его можно будет через 
	7 секунд.\nPortal to Shadow world: Group 1/2 -
	 Через 2 секунды появится порта
	л. Группа 1/2 бежит в центр.\nChillin
	g Comet 2 - Через 2 секунды на ва
	с упадет комета. Расстак и блок.\nCr
	ushing Darkness 10 - Через 3 секу
	нды на вас будет луч. Ка
	йтим его в течении последующих 7
	 секунд.\nScalding Sunder 2 - Хеви атака боса. 
	Ролл-додж.\nTalon Slice 0.6 -
	 Грифон царапа
	еццо. Если до оповещения
	 не сделать ролл-додж то уже поздно (650м
	с)...\nNocturnal's Favor 2 - З'маджа
	 даст хеви атаку ч
	ерез 2сек+расстояние. 
	Танк не отпускает блок\, дд - труп. Не 
	доджится.\nBaneful Barb 1.6 - Yagra Monstrosity д
	аст дебаф через 1200мс. Ролл-додж.\nCorpulence 2
	.6 - Yagra Monstrosity даст хеви ат
	аку через 2600мс. Дож
	даться когда тайм
	ер будет на 1 и сде
	лать ролл-додж\, 
	ну или драпать от неё в истер
	ике (тоже помогает). Аддоны:\n- GroupLootNotifier ht
	tp://www.esoui.com...otNotifier.html. Для все
	х кто собирает сет\
	, особенно в триал
	ах. Очень \"легкий
	\" аддон\, миним
	альная нагру
	зка на память 
	и ресурсы. Кр
	айне информатив
	ен. Показывает к
	ому что упало (
	сразу с трейт
	ами)\, все кли
	кабельное. 
	Включайте 
	в настройка
	х последни
	й автофильтр 
	и из чата пропадет флуд 
	состоящий из говнотрейтового дропа.\n- Band
	its User Interface http://forum.bandits...showtopic=58009. Н
	аш гильдейс
	кий аддон. 
	По своим в
	озможност
	ям и низко
	й нагрузк
	е на вычис
	лительны
	е ресурсы н
	а сегодняш
	ний день п
	ревосходит
	 прочие адд
	оны интерф
	ейса. Хила
	м иметь об
	язательно 
	потому что
	 они получа
	ют своеврем
	енные оповещ
	ения о горне 
	или просадке
	 группы/танка по
	 ресурсам. Дает 
	крайне важные о
	повещения в три
	алах.\n- Для т
	анка: Вклю
	чить в раз
	деле наст
	роек цели Бан
	дитского инт
	ерфейса таунт тр
	екер. Чтобы сэкон
	омить время:\n- Пр
	ошу приходить за 15 
	минут до начала
	 события сразу в ка
	нал Триалы в ТС.
	\n- Правильно в
	ыставлять роли.
	\n- Заблаговреме
	нно скрафтить
	/попросить еду
	/банки.\n- Про
	сматривае
	м лут и дог
	овариваемс
	я о передаче 
	после убийства по
	следнего босса. Жела
	тельно в личку а не голосом в ТС.
	\n- Носите с собой Grand Repair
	 Kit (можно получит
	ь за крафтовые 
	дейлики\, приобретае
	тся у вендоров\, а л
	учше в гильд стор
	ах)\n- В ТС не флу
	дим. Только ко
	нструктивная ин
	формация («горн»\,
	 «внизу/ввурху»\, 
	«не вставай/встав
	ай»\, пр.). Обсужд
	аем то что вас
	 волнует толь
	ко во время п
	ерерывов. Не р
	ассказываем 
	как вам обидн
	о что упали/з
	атупили/лагну
	ло\, не оправ
	дываемся если Р
	Л отметил лично 
	вашу ошибку. Да
	вайте экономить время.
	\n- После входа в холл данжа отклю
	чите тени\, Subsampling quality на
	 нормал\, миниму
	м частиц. Ни в кое
	м случае не заним
	айтесь этим во время рейда.\n- 
	На время рейда отключите Master Merchant\, Harvest Ma
	p\, RuESO.\n0\n\n
DTSTART:20190218T173000Z
ATTENDEE;CN="Hoft";CUTYPE=INDIVIDUAL;PARTSTAT=ACCEPTED:web@b
	andits-clan.ru
ATTENDEE;CN="Baltazar";CUTYPE=INDIVIDUAL;PARTSTAT=ACCEPTED:w
	eb@bandits-clan.ru
END:VEVENT
END:VCALENDAR
