BEGIN:VCALENDAR
VERSION:2.0
PRODID:-//InvisionCommunity Events 4.7.14//EN
METHOD:PUBLISH
CALSCALE:GREGORIAN
REFRESH-INTERVAL:PT15M
X-PUBLISHED-TTL:PT15M
X-WR-CALNAME:The Elder Scrolls Online
NAME:The Elder Scrolls Online
BEGIN:VTIMEZONE
TZID:Europe/London
TZURL:http://tzurl.org/zoneinfo/Europe/London
X-LIC-LOCATION:Europe/London
BEGIN:DAYLIGHT
TZOFFSETFROM:+0000
TZOFFSETTO:+0100
TZNAME:BST
DTSTART:20190331T020000Z
RRULE:FREQ=YEARLY;BYMONTH=3;BYDAY=-1SU
END:DAYLIGHT
BEGIN:STANDARD
TZOFFSETFROM:+0100
TZOFFSETTO:+0000
TZNAME:GMT
DTSTART:20191027T020000Z
RRULE:FREQ=YEARLY;BYMONTH=10;BYDAY=-1SU
END:STANDARD
END:VTIMEZONE
BEGIN:VEVENT
SUMMARY:[TESO] Обучающий hmAA
DTSTAMP:20190210T220441Z
SEQUENCE:0
UID:5028-1-afb15bc42254ad5fb0481ce5e9c8144d@forum.bandits-clan.ru
ORGANIZER;CN="mrachny":web@bandits-clan.ru
DESCRIPTION:\nОбучающий ветеранский 
	триал Aetherian Archive с включением Hard M
	ode. \nНачало события 20-00 по 
	МСК \nСбор начинается в 19-4
	5. Если вы записались\, 
	но не пришли до 20-00\,
	 ваше место может з
	анять любой желающий из чат
	а.\n\nТребования: \n- Звание от
	 Bandit и выше\n- Подтвержденный 
	ДПС 30к+ для дд\n- Табард гильд
	ии\n- TeamSpeak\n- Отмет
	ка о прохожден
	ии нормал или вет
	еранской версии триала 
	с гильдией\n\nНам потребуются: \n- 2 
	танка\n- 2 хила (ульта Solar Prison)\
	n- 8 дд (максимум 4
	 мдд)\nПриоритет 
	новичкам и желающи
	м получить отметку
	 о прохождении hmAA
	 с гильдией.\n
	\nОбязательно п
	ри записи указыв
	айте свою роль в 
	комментариях и и
	гровой id\, если 
	он отличает
	ся от ника н
	а форуме (ком
	ментарий не
	 является подт
	верждением запис
	и на событие\, не 
	забудьте нажать к
	нопку \"ПОЙДУ\" справа
	).\nПродолжительность 
	события - не более 3 ча
	сов. \nСбор\, перекуры\
	, перекусы и т.д. та
	кже входят в ука
	занные 3 часа\,
	 так что про
	шу всех приходить вовремя и по
	дготовленными на все случаи жизни)
DTSTART:20190215T170000Z
ATTENDEE;CN="mrachny";CUTYPE=INDIVIDUAL;PARTSTAT=ACCEPTED:we
	b@bandits-clan.ru
ATTENDEE;CN="zelenin";CUTYPE=INDIVIDUAL;PARTSTAT=ACCEPTED:we
	b@bandits-clan.ru
ATTENDEE;CN="Winchester";CUTYPE=INDIVIDUAL;PARTSTAT=ACCEPTED
	:web@bandits-clan.ru
ATTENDEE;CN="KotL75rus";CUTYPE=INDIVIDUAL;PARTSTAT=ACCEPTED:
	web@bandits-clan.ru
ATTENDEE;CN="Sayuli";CUTYPE=INDIVIDUAL;PARTSTAT=ACCEPTED:web
	@bandits-clan.ru
ATTENDEE;CN="VillainFDI";CUTYPE=INDIVIDUAL;PARTSTAT=ACCEPTED
	:web@bandits-clan.ru
ATTENDEE;CN="RichiFromHell";CUTYPE=INDIVIDUAL;PARTSTAT=ACCEP
	TED:web@bandits-clan.ru
ATTENDEE;CN="Vera";CUTYPE=INDIVIDUAL;PARTSTAT=ACCEPTED:web@b
	andits-clan.ru
ATTENDEE;CN="Agathus";CUTYPE=INDIVIDUAL;PARTSTAT=ACCEPTED:we
	b@bandits-clan.ru
ATTENDEE;CN="Jevgen";CUTYPE=INDIVIDUAL;PARTSTAT=ACCEPTED:web
	@bandits-clan.ru
ATTENDEE;CN="WhiteVim";CUTYPE=INDIVIDUAL;PARTSTAT=ACCEPTED:w
	eb@bandits-clan.ru
ATTENDEE;CN="Zbignev";CUTYPE=INDIVIDUAL;PARTSTAT=ACCEPTED:we
	b@bandits-clan.ru
ATTENDEE;CN="Static";CUTYPE=INDIVIDUAL;PARTSTAT=ACCEPTED:web
	@bandits-clan.ru
ATTENDEE;CN="EinarSnow";CUTYPE=INDIVIDUAL;PARTSTAT=ACCEPTED:
	web@bandits-clan.ru
ATTENDEE;CN="HappyPampers";CUTYPE=INDIVIDUAL;PARTSTAT=ACCEPT
	ED:web@bandits-clan.ru
END:VEVENT
END:VCALENDAR
