BEGIN:VCALENDAR
VERSION:2.0
PRODID:-//InvisionCommunity Events 4.7.14//EN
METHOD:PUBLISH
CALSCALE:GREGORIAN
REFRESH-INTERVAL:PT15M
X-PUBLISHED-TTL:PT15M
X-WR-CALNAME:The Elder Scrolls Online
NAME:The Elder Scrolls Online
BEGIN:VTIMEZONE
TZID:Europe/London
TZURL:http://tzurl.org/zoneinfo/Europe/London
X-LIC-LOCATION:Europe/London
BEGIN:DAYLIGHT
TZOFFSETFROM:+0000
TZOFFSETTO:+0100
TZNAME:BST
DTSTART:20190331T020000Z
RRULE:FREQ=YEARLY;BYMONTH=3;BYDAY=-1SU
END:DAYLIGHT
BEGIN:STANDARD
TZOFFSETFROM:+0100
TZOFFSETTO:+0000
TZNAME:GMT
DTSTART:20191027T020000Z
RRULE:FREQ=YEARLY;BYMONTH=10;BYDAY=-1SU
END:STANDARD
END:VTIMEZONE
BEGIN:VEVENT
SUMMARY:[TESO] Бойцовский Клуб
DTSTAMP:20190210T132943Z
SEQUENCE:2
UID:5022-1-afb15bc42254ad5fb0481ce5e9c8144d@forum.bandits-clan.ru
ORGANIZER;CN="Tykot":web@bandits-clan.ru
DESCRIPTION:Добро пож
	аловать в Бо
	йцовский клу
	б! Бойцовский к
	луб - дуэльный к
	луб со своими п
	равилами и рейт
	ингом\, где ваш 
	ранг в гильди
	и ничего не з
	начит.\nПрини
	мать участие в Бойцовск
	ом клубе могут только игроки гильдий Dagge
	rfall Bandits и Vanguard Bandits\, подр
	обнее с п
	равилами
	 клуба мо
	жно ознако
	миться ниж
	е. Правила
	 Бойцовског
	о клуба Перв
	ое правило клу
	ба: не упоминат
	ь вне гильдии 
	о Бойцовском к
	лубе.\nВторое 
	правило клуба:
	 не упоминать 
	нигде вне гильд
	ии о Бойцовском кл
	убе.\nТретье правил
	о клуба: боец утону
	л\, сгорел\, умер — 
	бой окончен.\nЧетв
	ертое: в бою участ
	вуют лишь двое.\nП
	ятое: бои идут оди
	н за другим.\nШе
	стое: все надев
	ают табарды.\nСе
	дьмое: бой прод
	олжается столько\
	, сколько нужно.\n
	Восьмое и посл
	еднее: тот\, к
	то впервые
	 пришёл в к
	луб — прим
	ет бой. Тр
	ебования к
	 персонажам 
	Для участия в
	 Бойцовском 
	клубе нет т
	ребований к
	 персонажу
	\, кроме за
	прета возм
	ожности см
	енить персо
	нажа после 
	определения 
	дуэльных пар.\nМо
	жно использова
	ть любые набор
	ы предметов\,
	 яды\, зелья
	\, зачаров
	ания. Р
	егламент
	 событий 
	Желающие у
	частвовать 
	в Бойцовском 
	клубе записыв
	аются в кален
	даре либо в 
	чате перед 
	событием\,
	 перед на
	чалом соб
	ытия сре
	ди запис
	авшихся 
	случайны
	м образом 
	определя
	ются дуэл
	янты (колич
	ество рейт
	инговых ду
	элей зависи
	т от количеств
	а записавшихся)
	. Далее провод
	ятся дуэли по
	 очереди. Игр
	оки\, свободн
	ые от рейтин
	говых боёв 
	могут провод
	ить не рейтинг
	овые бои. Бой 
	длится неогр
	аниченное врем
	я\, если это н
	е оговорен
	о заранее 
	перед нача
	лом сессии
	. По резул
	ьтатам сес
	сии записыв
	аются резул
	ьтаты и пров
	одится расче
	т рейтинга\,
	 который в 
	дальнейшем
	 заносится в
	 данные аккау
	нта участника к
	луба. Рейтинг бу
	дет влиять на по
	дбор пары для 
	дуэлей\, а так
	 же на возмо
	жность участия в дуэльных т
	урнирах гильдии (выбор турнирной лиги).
DTSTART:20190217T170000Z
ATTENDEE;CN="Tykot";CUTYPE=INDIVIDUAL;PARTSTAT=ACCEPTED:web@
	bandits-clan.ru
ATTENDEE;CN="Dolphin";CUTYPE=INDIVIDUAL;PARTSTAT=ACCEPTED:we
	b@bandits-clan.ru
END:VEVENT
END:VCALENDAR
