BEGIN:VCALENDAR
VERSION:2.0
PRODID:-//InvisionCommunity Events 4.7.14//EN
METHOD:PUBLISH
CALSCALE:GREGORIAN
REFRESH-INTERVAL:PT15M
X-PUBLISHED-TTL:PT15M
X-WR-CALNAME:The Elder Scrolls Online
NAME:The Elder Scrolls Online
BEGIN:VTIMEZONE
TZID:Europe/London
TZURL:http://tzurl.org/zoneinfo/Europe/London
X-LIC-LOCATION:Europe/London
BEGIN:DAYLIGHT
TZOFFSETFROM:+0000
TZOFFSETTO:+0100
TZNAME:BST
DTSTART:20190331T020000Z
RRULE:FREQ=YEARLY;BYMONTH=3;BYDAY=-1SU
END:DAYLIGHT
BEGIN:STANDARD
TZOFFSETFROM:+0100
TZOFFSETTO:+0000
TZNAME:GMT
DTSTART:20191027T020000Z
RRULE:FREQ=YEARLY;BYMONTH=10;BYDAY=-1SU
END:STANDARD
END:VTIMEZONE
BEGIN:VEVENT
SUMMARY:Событие: [TESO] Мировые боссы и п
	аблики Вандерфела
DTSTAMP:20190206T141006Z
SEQUENCE:0
UID:5006-1-afb15bc42254ad5fb0481ce5e9c8144d@forum.bandits-clan.ru
ORGANIZER;CN="FreeDown":web@bandits-clan.ru
DESCRIPTION:В связи с эв
	ентом Морровинда
	 (двойной дроп с 
	боссов\, двойн
	ые награды за
	 дейлики)\, п
	риглашаютс
	я все жела
	ющие закр
	ыть мировы
	х боссов и
	 публичны
	е подземел
	ья в Вванд
	енфеле. Па
	раллельно с
	 убийством 
	мировых бос
	сов будем выпол
	нять дейлики на них
	. Возможная награда за дейлики - мо
	тив 30: Мораг Тонг ( Crafting Motif 30: Mo
	rag Tong ) Публичные подземелья: Забыты
	е Пустоши (The Forgotten Wastes) и Нчулефтингт (
	Nchuleftinght).\n\nВ публичн
	ых подземелья
	х убъем всех 
	боссов\, возьмем 
	скайшарды\, вы
	полним групповые з
	адания. Требования
	:\n\n- уровень персонажа 
	любой\n\n- альянс пе
	рсонажа любой\n\
	n- табард (накидка 
	гильдии\, покупается в ги
	льдейском магазине)\n\n- тимспик\, канал &lt\
	;World Boss Academy&gt\;
DTSTART:20190211T180000Z
ATTENDEE;CN="FreeDown";CUTYPE=INDIVIDUAL;PARTSTAT=ACCEPTED:w
	eb@bandits-clan.ru
ATTENDEE;CN="Damn vegan";CUTYPE=INDIVIDUAL;PARTSTAT=ACCEPTED
	:web@bandits-clan.ru
ATTENDEE;CN="Valen Tine";CUTYPE=INDIVIDUAL;PARTSTAT=ACCEPTED
	:web@bandits-clan.ru
END:VEVENT
END:VCALENDAR
