BEGIN:VCALENDAR
VERSION:2.0
PRODID:-//InvisionCommunity Events 4.7.14//EN
METHOD:PUBLISH
CALSCALE:GREGORIAN
REFRESH-INTERVAL:PT15M
X-PUBLISHED-TTL:PT15M
X-WR-CALNAME:The Elder Scrolls Online
NAME:The Elder Scrolls Online
BEGIN:VTIMEZONE
TZID:Europe/London
TZURL:http://tzurl.org/zoneinfo/Europe/London
X-LIC-LOCATION:Europe/London
BEGIN:DAYLIGHT
TZOFFSETFROM:+0000
TZOFFSETTO:+0100
TZNAME:BST
DTSTART:20190331T020000Z
RRULE:FREQ=YEARLY;BYMONTH=3;BYDAY=-1SU
END:DAYLIGHT
BEGIN:STANDARD
TZOFFSETFROM:+0100
TZOFFSETTO:+0000
TZNAME:GMT
DTSTART:20191027T020000Z
RRULE:FREQ=YEARLY;BYMONTH=10;BYDAY=-1SU
END:STANDARD
END:VTIMEZONE
BEGIN:VEVENT
SUMMARY:[TESO] vAS обучалка
DTSTAMP:20190205T093203Z
SEQUENCE:0
UID:5003-1-afb15bc42254ad5fb0481ce5e9c8144d@forum.bandits-clan.ru
ORGANIZER;CN="dreemspot":web@bandits-clan.ru
DESCRIPTION:\nВ 16.00 по Московском
	у времени.\n\nПриглашаю 12 ч
	еловек - 1 танк\, 2 х
	ила\, 9 дд (Обязательна
	 отметка о прохождении нормала\, у
	 ДД ДПС 26к+) в звании Raider/Warr
	ior\, для прохождения триала:\n\
	nИзоляционный Санктуарий / Asylum Sa
	nctorium [vAS] Необходимо DLC - З
	аводной город.\n\nПри себе и
	меть: табард\, TeamSpeak\, 
	ремкомплекты и ед
	у!\n\nНа событие п
	риходите зара
	нее\, в противном
	 случае\, ваше 
	место уйдет д
	ругому жаждуще
	му. Так же не за
	бывайте жать кн
	опку пойду! ведь именно по кнопк
	е\, приоритет по набору в группу.
DTSTART:20190209T130000Z
ATTENDEE;CN="dreemspot";CUTYPE=INDIVIDUAL;PARTSTAT=ACCEPTED:
	web@bandits-clan.ru
ATTENDEE;CN="Ghost_77";CUTYPE=INDIVIDUAL;PARTSTAT=ACCEPTED:w
	eb@bandits-clan.ru
ATTENDEE;CN="zelenin";CUTYPE=INDIVIDUAL;PARTSTAT=ACCEPTED:we
	b@bandits-clan.ru
ATTENDEE;CN="Valen Tine";CUTYPE=INDIVIDUAL;PARTSTAT=ACCEPTED
	:web@bandits-clan.ru
ATTENDEE;CN="xSvitx";CUTYPE=INDIVIDUAL;PARTSTAT=ACCEPTED:web
	@bandits-clan.ru
ATTENDEE;CN="HappyPampers";CUTYPE=INDIVIDUAL;PARTSTAT=ACCEPT
	ED:web@bandits-clan.ru
ATTENDEE;CN="MinaevNaKone";CUTYPE=INDIVIDUAL;PARTSTAT=ACCEPT
	ED:web@bandits-clan.ru
ATTENDEE;CN="Adellface";CUTYPE=INDIVIDUAL;PARTSTAT=ACCEPTED:
	web@bandits-clan.ru
ATTENDEE;CN="ya_ranim";CUTYPE=INDIVIDUAL;PARTSTAT=ACCEPTED:w
	eb@bandits-clan.ru
ATTENDEE;CN="ShadowBreathe";CUTYPE=INDIVIDUAL;PARTSTAT=ACCEP
	TED:web@bandits-clan.ru
ATTENDEE;CN="Fox665";CUTYPE=INDIVIDUAL;PARTSTAT=ACCEPTED:web
	@bandits-clan.ru
ATTENDEE;CN="Aabsolute";CUTYPE=INDIVIDUAL;PARTSTAT=ACCEPTED:
	web@bandits-clan.ru
ATTENDEE;CN="mistercos1";CUTYPE=INDIVIDUAL;PARTSTAT=ACCEPTED
	:web@bandits-clan.ru
END:VEVENT
END:VCALENDAR
