BEGIN:VCALENDAR
VERSION:2.0
PRODID:-//InvisionCommunity Events 4.7.14//EN
METHOD:PUBLISH
CALSCALE:GREGORIAN
REFRESH-INTERVAL:PT15M
X-PUBLISHED-TTL:PT15M
X-WR-CALNAME:The Elder Scrolls Online
NAME:The Elder Scrolls Online
BEGIN:VTIMEZONE
TZID:Europe/London
TZURL:http://tzurl.org/zoneinfo/Europe/London
X-LIC-LOCATION:Europe/London
BEGIN:DAYLIGHT
TZOFFSETFROM:+0000
TZOFFSETTO:+0100
TZNAME:BST
DTSTART:20190331T020000Z
RRULE:FREQ=YEARLY;BYMONTH=3;BYDAY=-1SU
END:DAYLIGHT
BEGIN:STANDARD
TZOFFSETFROM:+0100
TZOFFSETTO:+0000
TZNAME:GMT
DTSTART:20191027T020000Z
RRULE:FREQ=YEARLY;BYMONTH=10;BYDAY=-1SU
END:STANDARD
END:VTIMEZONE
BEGIN:VEVENT
SUMMARY:[TESO] Imperial City 160+
DTSTAMP:20190204T072129Z
SEQUENCE:0
UID:4997-1-afb15bc42254ad5fb0481ce5e9c8144d@forum.bandits-clan.ru
ORGANIZER;CN="Keshanberg":web@bandits-clan.ru
DESCRIPTION:Игроки 160+ за 
	Даггерфолл 
	Ковенант\, прихо
	дите на вылазку 
	в Имперский Город!  ​Зач
	ем нам это:\n1. убьем всех 
	на своем пути (PvP)\n2
	. захватываем флаги
	\, получаем альянс поинты - информа
	ция о них здесь:http://en.uesp.net/w...Alliance_P
	oints\n3. фармим тель-вары! - информация 
	о них здесь: http://www.tesonline...ones-guide-8
	927\n4. закрываем боссов  Требования
	: Тимспик (DLC Imperial City или ESO+
	)   Cбор в Военном Гильдхолле (пкм @Kesh
	anberg - visit primary / посетить 
	дом)  А это вам 
	небольшая памят
	ка\, какие трофеи
	 стоит копить\, а 
	какие можно открыть по разу 
	(для ачивки) и забыть про них: \nMonstrious
	 Tooth — Agility (кольца)\nBloody Claw — Agility (ожер
	елье)\nBone Shard — Willpower (кольца)\nDark Ether —
	 Willpower (ожерелье)\nMark of the Legion — Endurance (о
	жерелье) 
DTSTART:20190204T173000Z
ATTENDEE;CN="Keshanberg";CUTYPE=INDIVIDUAL;PARTSTAT=ACCEPTED
	:web@bandits-clan.ru
ATTENDEE;CN="Dolphin";CUTYPE=INDIVIDUAL;PARTSTAT=ACCEPTED:we
	b@bandits-clan.ru
ATTENDEE;CN="Agathus";CUTYPE=INDIVIDUAL;PARTSTAT=ACCEPTED:we
	b@bandits-clan.ru
ATTENDEE;CN="Keeper";CUTYPE=INDIVIDUAL;PARTSTAT=ACCEPTED:web
	@bandits-clan.ru
ATTENDEE;CN="HappyPampers";CUTYPE=INDIVIDUAL;PARTSTAT=ACCEPT
	ED:web@bandits-clan.ru
ATTENDEE;CN="tavsura";CUTYPE=INDIVIDUAL;PARTSTAT=ACCEPTED:we
	b@bandits-clan.ru
END:VEVENT
END:VCALENDAR
