BEGIN:VCALENDAR
VERSION:2.0
PRODID:-//InvisionCommunity Events 4.7.14//EN
METHOD:PUBLISH
CALSCALE:GREGORIAN
REFRESH-INTERVAL:PT15M
X-PUBLISHED-TTL:PT15M
X-WR-CALNAME:The Elder Scrolls Online
NAME:The Elder Scrolls Online
BEGIN:VTIMEZONE
TZID:Europe/London
TZURL:http://tzurl.org/zoneinfo/Europe/London
X-LIC-LOCATION:Europe/London
BEGIN:DAYLIGHT
TZOFFSETFROM:+0000
TZOFFSETTO:+0100
TZNAME:BST
DTSTART:20190331T020000Z
RRULE:FREQ=YEARLY;BYMONTH=3;BYDAY=-1SU
END:DAYLIGHT
BEGIN:STANDARD
TZOFFSETFROM:+0100
TZOFFSETTO:+0000
TZNAME:GMT
DTSTART:20191027T020000Z
RRULE:FREQ=YEARLY;BYMONTH=10;BYDAY=-1SU
END:STANDARD
END:VTIMEZONE
BEGIN:VEVENT
SUMMARY:[TESO] YoungGuns - Battlegrounds для уровней 10-49
DTSTAMP:20190204T001843Z
SEQUENCE:2
UID:4993-1-afb15bc42254ad5fb0481ce5e9c8144d@forum.bandits-clan.ru
ORGANIZER;CN="Tykot":web@bandits-clan.ru
DESCRIPTION:Куда идём? Battlegrounds 
	- динамичное ПВП
	 для команд из 4 
	человек Что п
	олучим? Опыт 
	игры в ПВП и 
	альянс-поинты
	. На альянс-поин
	ты можно приоб
	рести ценные мот
	ивы\, монстр-сеты
	\, золотые кольц
	а и ожерелья.
	\nПрокачаем вет
	ки штурм и поддерж
	ка с такими важным
	и навыками как вигор\,
	 горн\, пурдж\, мана
	-бомба и прочие.
	\nРаз в день на
	 персонажа тепер
	ь дают кофр с п
	родвинутым с
	одержимым - о
	ружие\, мотивы\, 
	кристаллы трансмут
	ации. Требования: Т
	абард гильдии\nTeam Spea
	k Нам нужны: При
	глашаем новых игро
	ков 10-49 уровня по
	знавать вместе 
	ПВП-аспекты игры
	\, а так же вет
	еранов на тви
	нках\, жаждущи
	х легких алья
	нс-поинтов Сос
	тав команды: 4 
	человека. Если
	 желающих буде
	т больше - при
	оритет по в
	ремени запи
	си\nПри налич
	ии второго оп
	ытного РЛа во
	зможно создани
	е двух команд\nЕс
	ли ваш ник в иг
	ре отличается 
	от ника на фор
	уме\, укажит
	е в коммент
	ариях свой иг
	ровой ник\nЧе
	ловек счита
	ется записав
	шимся на событ
	ие тогда\, когда он
	 подтверждает св
	оё участие кнопкой
	 \"Пойду\" (справа)
	\nКомментарии н
	е являются за
	писью\, они служ
	ат для распределения ролей\, обсужден
	ия сетов и так далее
DTSTART:20190205T170000Z
ATTENDEE;CN="Tykot";CUTYPE=INDIVIDUAL;PARTSTAT=ACCEPTED:web@
	bandits-clan.ru
ATTENDEE;CN="Damn vegan";CUTYPE=INDIVIDUAL;PARTSTAT=ACCEPTED
	:web@bandits-clan.ru
ATTENDEE;CN="Keeper";CUTYPE=INDIVIDUAL;PARTSTAT=ACCEPTED:web
	@bandits-clan.ru
ATTENDEE;CN="gaffer";CUTYPE=INDIVIDUAL;PARTSTAT=ACCEPTED:web
	@bandits-clan.ru
END:VEVENT
END:VCALENDAR
