BEGIN:VCALENDAR
VERSION:2.0
PRODID:-//InvisionCommunity Events 4.7.14//EN
METHOD:PUBLISH
CALSCALE:GREGORIAN
REFRESH-INTERVAL:PT15M
X-PUBLISHED-TTL:PT15M
X-WR-CALNAME:The Elder Scrolls Online
NAME:The Elder Scrolls Online
BEGIN:VTIMEZONE
TZID:Europe/London
TZURL:http://tzurl.org/zoneinfo/Europe/London
X-LIC-LOCATION:Europe/London
BEGIN:DAYLIGHT
TZOFFSETFROM:+0000
TZOFFSETTO:+0100
TZNAME:BST
DTSTART:20190331T020000Z
RRULE:FREQ=YEARLY;BYMONTH=3;BYDAY=-1SU
END:DAYLIGHT
BEGIN:STANDARD
TZOFFSETFROM:+0100
TZOFFSETTO:+0000
TZNAME:GMT
DTSTART:20191027T020000Z
RRULE:FREQ=YEARLY;BYMONTH=10;BYDAY=-1SU
END:STANDARD
END:VTIMEZONE
BEGIN:VEVENT
SUMMARY:(TESO) Мир приключений Тамриэля.
	 Игра-квест
DTSTAMP:20190202T052350Z
SEQUENCE:0
UID:4979-1-afb15bc42254ad5fb0481ce5e9c8144d@forum.bandits-clan.ru
ORGANIZER;CN="Bandit":web@bandits-clan.ru
DESCRIPTION:С 14 00 по Мск \n\nС
	амые загадочны
	е\, невероятные\
	, ужасные\, п
	рекрасные
	 и забавны
	е истории 
	ждут вас к
	аждое воскр
	есенье!   Ра
	скройте прес
	тупление\, ост
	ановите конец с
	вета\, убейте не
	тча Вилкой Щек
	отки и спасите при
	нцессу! \n\nИгра дост
	упна для всех желающих 0+ 
	уровня. \n\nТимспик\, канал Мир приключен
	ий.
DTSTART:20190210T110000Z
ATTENDEE;CN="Bandit";CUTYPE=INDIVIDUAL;PARTSTAT=ACCEPTED:web
	@bandits-clan.ru
ATTENDEE;CN="Bagira-Olga";CUTYPE=INDIVIDUAL;PARTSTAT=ACCEPTE
	D:web@bandits-clan.ru
ATTENDEE;CN="Keeper";CUTYPE=INDIVIDUAL;PARTSTAT=ACCEPTED:web
	@bandits-clan.ru
ATTENDEE;CN="Zefir'ra";CUTYPE=INDIVIDUAL;PARTSTAT=ACCEPTED:w
	eb@bandits-clan.ru
ATTENDEE;CN="Damn vegan";CUTYPE=INDIVIDUAL;PARTSTAT=ACCEPTED
	:web@bandits-clan.ru
ATTENDEE;CN="Yurbo";CUTYPE=INDIVIDUAL;PARTSTAT=ACCEPTED:web@
	bandits-clan.ru
END:VEVENT
END:VCALENDAR
