BEGIN:VCALENDAR
VERSION:2.0
PRODID:-//InvisionCommunity Events 4.7.14//EN
METHOD:PUBLISH
CALSCALE:GREGORIAN
REFRESH-INTERVAL:PT15M
X-PUBLISHED-TTL:PT15M
X-WR-CALNAME:The Elder Scrolls Online
NAME:The Elder Scrolls Online
BEGIN:VTIMEZONE
TZID:Europe/London
TZURL:http://tzurl.org/zoneinfo/Europe/London
X-LIC-LOCATION:Europe/London
BEGIN:DAYLIGHT
TZOFFSETFROM:+0000
TZOFFSETTO:+0100
TZNAME:BST
DTSTART:20190331T020000Z
RRULE:FREQ=YEARLY;BYMONTH=3;BYDAY=-1SU
END:DAYLIGHT
BEGIN:STANDARD
TZOFFSETFROM:+0100
TZOFFSETTO:+0000
TZNAME:GMT
DTSTART:20191027T020000Z
RRULE:FREQ=YEARLY;BYMONTH=10;BYDAY=-1SU
END:STANDARD
END:VTIMEZONE
BEGIN:VEVENT
SUMMARY:(TESO) Учебный нормал-триал на выбо
	р
DTSTAMP:20190202T051920Z
SEQUENCE:2
UID:4975-1-afb15bc42254ad5fb0481ce5e9c8144d@forum.bandits-clan.ru
ORGANIZER;CN="Bandit":web@bandits-clan.ru
DESCRIPTION:С 16 00 по Мск\n\n\
	nВсем новичк
	ам и желающ
	им получить
	 заветную отм
	етку в ростер
	е гильдии! Добро 
	пожаловать в учеб
	ный триал по вашему
	 выбору!\n\n\nСоберем
	ся в тимспике и ре
	шим\, куда пойдем - л
	юбой триал Краглор
	на\, любой триал DLC - ваше жела
	ние будет для меня законом &lt\;___base_url___&gt\;/
	uploads/emoticons/WoT_smile.gif\n\n\nТебе уже
	 исполнилось 160
	 Чемпионских о
	чков? Пора начин
	ать взрослую жизн
	ь в игре! Захвати ти
	мспик\, табард и не забуд
	ь - сбор будет в Гилдхолле!\n\n\n12 ч
	еловек\, звание Thief+/Soldier
	+ (анкета на фор
	уме и заход в тимспик -
	 получить это звание проще пр
	остого!)\, от 160 ЧП - 1-2 танка\, 2
	 хилера\, остальные - любые
	 дд.\n\n\nПриоритет новичкам
	\n\n\nP.S. Объясняю кратко и 
	внятно. На 1 триал у нас у
	йдет от 30 минут (Аэтериан
	ский Архив) до 1\,2-1\,5 час
	а (это если мы по
	йдем в ХоФ или Асилум\, а вы 
	там кааааак начнете вылетать... &lt\;___base_url_
	__&gt\;/uploads/emoticons/WoT_smile.gif)
DTSTART:20190213T130000Z
ATTENDEE;CN="Bandit";CUTYPE=INDIVIDUAL;PARTSTAT=ACCEPTED:web
	@bandits-clan.ru
ATTENDEE;CN="Keeper";CUTYPE=INDIVIDUAL;PARTSTAT=ACCEPTED:web
	@bandits-clan.ru
ATTENDEE;CN="BLACKRIVEL";CUTYPE=INDIVIDUAL;PARTSTAT=ACCEPTED
	:web@bandits-clan.ru
ATTENDEE;CN="K0RVINUS";CUTYPE=INDIVIDUAL;PARTSTAT=ACCEPTED:w
	eb@bandits-clan.ru
ATTENDEE;CN="HappyPampers";CUTYPE=INDIVIDUAL;PARTSTAT=ACCEPT
	ED:web@bandits-clan.ru
ATTENDEE;CN="Zbignev";CUTYPE=INDIVIDUAL;PARTSTAT=ACCEPTED:we
	b@bandits-clan.ru
ATTENDEE;CN="OziePozie";CUTYPE=INDIVIDUAL;PARTSTAT=ACCEPTED:
	web@bandits-clan.ru
ATTENDEE;CN="Cubano";CUTYPE=INDIVIDUAL;PARTSTAT=ACCEPTED:web
	@bandits-clan.ru
ATTENDEE;CN="keml";CUTYPE=INDIVIDUAL;PARTSTAT=ACCEPTED:web@b
	andits-clan.ru
ATTENDEE;CN="Fleche";CUTYPE=INDIVIDUAL;PARTSTAT=ACCEPTED:web
	@bandits-clan.ru
END:VEVENT
END:VCALENDAR
