BEGIN:VCALENDAR
VERSION:2.0
PRODID:-//InvisionCommunity Events 4.7.14//EN
METHOD:PUBLISH
CALSCALE:GREGORIAN
REFRESH-INTERVAL:PT15M
X-PUBLISHED-TTL:PT15M
X-WR-CALNAME:The Elder Scrolls Online
NAME:The Elder Scrolls Online
BEGIN:VTIMEZONE
TZID:Europe/London
TZURL:http://tzurl.org/zoneinfo/Europe/London
X-LIC-LOCATION:Europe/London
BEGIN:DAYLIGHT
TZOFFSETFROM:+0000
TZOFFSETTO:+0100
TZNAME:BST
DTSTART:20190331T020000Z
RRULE:FREQ=YEARLY;BYMONTH=3;BYDAY=-1SU
END:DAYLIGHT
BEGIN:STANDARD
TZOFFSETFROM:+0100
TZOFFSETTO:+0000
TZNAME:GMT
DTSTART:20191027T020000Z
RRULE:FREQ=YEARLY;BYMONTH=10;BYDAY=-1SU
END:STANDARD
END:VTIMEZONE
BEGIN:VEVENT
SUMMARY:[TESO] Мировые боссы\, дольмены
	\, паблики Саммерсета
DTSTAMP:20190129T144222Z
SEQUENCE:0
UID:4965-1-afb15bc42254ad5fb0481ce5e9c8144d@forum.bandits-clan.ru
ORGANIZER;CN="FreeDown":web@bandits-clan.ru
DESCRIPTION:Приглаша
	ются все ж
	елающие за
	крыть миро
	вых боссов
	 и дольмены
	 в Саммерсе
	те. Паралл
	ельно будем
	 выполнять де
	йлики на мировых 
	боссов. Возможная награда за де
	йлики - мотив 62: Сапиарх ( Crafting Motif
	 62: Sapiarch ) Если упра
	вимся быстр
	о\, после бо
	ссов и дольмен
	ов закроем публичные 
	подземелья Саммерсета: Карнваст
	ен (Karnwasten) и Санхолд (Sunhold)
	. Убьем боссо
	в\, возьмем ска
	йшарды\, выпол
	ним групповые 
	задания. Требо
	вания:\n- имеется до
	ступ в локацию (купл
	ена глава Саммерсет
	)\n\n- уровень персонажа 
	любой\n\n- альянс пе
	рсонажа любой\n\
	n- табард (накидка 
	гильдии\, покупается в ги
	льдейском магазине)\n\n- тимспик\, канал &lt\
	;World Boss Academy&gt\;
DTSTART:20190204T180000Z
ATTENDEE;CN="FreeDown";CUTYPE=INDIVIDUAL;PARTSTAT=ACCEPTED:w
	eb@bandits-clan.ru
ATTENDEE;CN="McKenzo";CUTYPE=INDIVIDUAL;PARTSTAT=ACCEPTED:we
	b@bandits-clan.ru
ATTENDEE;CN="Miikha";CUTYPE=INDIVIDUAL;PARTSTAT=ACCEPTED:web
	@bandits-clan.ru
ATTENDEE;CN="OziePozie";CUTYPE=INDIVIDUAL;PARTSTAT=ACCEPTED:
	web@bandits-clan.ru
ATTENDEE;CN="Listening-the-Silence";CUTYPE=INDIVIDUAL;PARTST
	AT=ACCEPTED:web@bandits-clan.ru
ATTENDEE;CN="Keeper";CUTYPE=INDIVIDUAL;PARTSTAT=ACCEPTED:web
	@bandits-clan.ru
ATTENDEE;CN="Fyuri";CUTYPE=INDIVIDUAL;PARTSTAT=ACCEPTED:web@
	bandits-clan.ru
END:VEVENT
END:VCALENDAR
