BEGIN:VCALENDAR
VERSION:2.0
PRODID:-//InvisionCommunity Events 4.7.14//EN
METHOD:PUBLISH
CALSCALE:GREGORIAN
REFRESH-INTERVAL:PT15M
X-PUBLISHED-TTL:PT15M
X-WR-CALNAME:The Elder Scrolls Online
NAME:The Elder Scrolls Online
BEGIN:VTIMEZONE
TZID:Europe/London
TZURL:http://tzurl.org/zoneinfo/Europe/London
X-LIC-LOCATION:Europe/London
BEGIN:DAYLIGHT
TZOFFSETFROM:+0000
TZOFFSETTO:+0100
TZNAME:BST
DTSTART:20190331T020000Z
RRULE:FREQ=YEARLY;BYMONTH=3;BYDAY=-1SU
END:DAYLIGHT
BEGIN:STANDARD
TZOFFSETFROM:+0100
TZOFFSETTO:+0000
TZNAME:GMT
DTSTART:20191027T020000Z
RRULE:FREQ=YEARLY;BYMONTH=10;BYDAY=-1SU
END:STANDARD
END:VTIMEZONE
BEGIN:VEVENT
SUMMARY:[TESO] PvP Imperial City
DTSTAMP:20190127T210025Z
SEQUENCE:0
UID:4942-1-afb15bc42254ad5fb0481ce5e9c8144d@forum.bandits-clan.ru
ORGANIZER;CN="Keshanberg":web@bandits-clan.ru
DESCRIPTION:Игроки 160+ за 
	Даггерфолл
	 Ковенант\, прихо
	дите на вылазку 
	в Имперский Город!   ​З
	ачем нам это:\n1. убьем все
	х на своем пути (PvP)\n
	2. захватываем флаг
	и\, получаем альянс поинты - инфор
	мация о них здесь:http://en.uesp.net/w...Alliance
	_Points\n3. фармим тель-вары! - информаци
	я о них здесь: http://www.tesonline...ones-guide-
	8927\n4. закрываем боссов\nТребовани
	я:   Тимспик (DLC Imperial City или 
	ESO+) \nCбор в Военном Гильдхолле (пкм @Kesha
	nberg - visit primary / посетить 
	дом)   А это вам
	 небольшая памят
	ка\, какие трофеи
	 стоит копить\, а 
	какие можно открыть по разу (
	для ачивки) и забыть про них:\nMonstrious To
	oth — Agility (кольца)\nBloody Claw — Agility (ожерель
	е)\nBone Shard — Willpower (кольца)\nDark Ether — Willp
	ower (ожерелье)\nMark of the Legion — Endurance (ожерель
	е)
DTSTART:20190128T173000Z
ATTENDEE;CN="Keshanberg";CUTYPE=INDIVIDUAL;PARTSTAT=ACCEPTED
	:web@bandits-clan.ru
ATTENDEE;CN="Agathus";CUTYPE=INDIVIDUAL;PARTSTAT=ACCEPTED:we
	b@bandits-clan.ru
END:VEVENT
END:VCALENDAR
