BEGIN:VCALENDAR
VERSION:2.0
PRODID:-//InvisionCommunity Events 4.7.14//EN
METHOD:PUBLISH
CALSCALE:GREGORIAN
REFRESH-INTERVAL:PT15M
X-PUBLISHED-TTL:PT15M
X-WR-CALNAME:The Elder Scrolls Online
NAME:The Elder Scrolls Online
BEGIN:VTIMEZONE
TZID:Europe/London
TZURL:http://tzurl.org/zoneinfo/Europe/London
X-LIC-LOCATION:Europe/London
BEGIN:DAYLIGHT
TZOFFSETFROM:+0000
TZOFFSETTO:+0100
TZNAME:BST
DTSTART:20190331T020000Z
RRULE:FREQ=YEARLY;BYMONTH=3;BYDAY=-1SU
END:DAYLIGHT
BEGIN:STANDARD
TZOFFSETFROM:+0100
TZOFFSETTO:+0000
TZNAME:GMT
DTSTART:20191027T020000Z
RRULE:FREQ=YEARLY;BYMONTH=10;BYDAY=-1SU
END:STANDARD
END:VTIMEZONE
BEGIN:VEVENT
SUMMARY:[TESO] Ночной триал (nAS)\, обучающий
DTSTAMP:20190122T173442Z
SEQUENCE:2
UID:4919-1-afb15bc42254ad5fb0481ce5e9c8144d@forum.bandits-clan.ru
ORGANIZER;CN="Tykot":web@bandits-clan.ru
DESCRIPTION:Куда идём? В 23-00 по МСК
	 проходим normal версию триала Asylu
	m Sanctorium Что получим? Оружие A
	sylum Weapons\nОтметку 
	о прохождени
	и триала для повышения 
	звания в гильдии Требования: Зв
	ание Thief\, Soldier или выше\n160 cp\nГильдей
	ский табард\nTeam Speak\nDLC Завод
	ной город Нам нужны: 1 т
	анк\, 9 дд\, 2 хила (я н
	а танке\, если
	 только вдр
	уг кому-то
	 не будет крайне
	 нужна отметка) Приветствую
	тся обладатели навыков Purge и 
	Crushing Shock Кто идет х
	илом или танком\
	, пишите в коммент
	ариях свою роль\, 
	чтобы у нас не пол
	училось на старте 5
	 хилов.\nПриходит
	е заранее\, в то
	м числе в тимспи
	к\, вместо опозд
	авших наберем ж
	елающих из чата.\
	nЕсли ваш ник в
	 игре отличает
	ся от ника на фо
	руме\, укажит
	е в коммента
	риях свой игро
	вой ник.\nЧело
	век считаетс
	я записавшим
	ся на событие то
	гда\, когда он подт
	верждает своё уч
	астие кнопкой \"Пой
	ду\" (справа).\nК
	омментарии не
	 являются запи
	сью\, они служат дл
	я распределения ролей\, обсужде
	ния сетов и так далее.
DTSTART:20190126T200000Z
ATTENDEE;CN="Tykot";CUTYPE=INDIVIDUAL;PARTSTAT=ACCEPTED:web@
	bandits-clan.ru
ATTENDEE;CN="Shaber";CUTYPE=INDIVIDUAL;PARTSTAT=ACCEPTED:web
	@bandits-clan.ru
ATTENDEE;CN="Dolphin";CUTYPE=INDIVIDUAL;PARTSTAT=ACCEPTED:we
	b@bandits-clan.ru
ATTENDEE;CN="Kotolypovka";CUTYPE=INDIVIDUAL;PARTSTAT=ACCEPTE
	D:web@bandits-clan.ru
ATTENDEE;CN="Missclick_gosu";CUTYPE=INDIVIDUAL;PARTSTAT=ACCE
	PTED:web@bandits-clan.ru
ATTENDEE;CN="zelenin";CUTYPE=INDIVIDUAL;PARTSTAT=ACCEPTED:we
	b@bandits-clan.ru
ATTENDEE;CN="Neuro-Mancer";CUTYPE=INDIVIDUAL;PARTSTAT=ACCEPT
	ED:web@bandits-clan.ru
ATTENDEE;CN="Trirar";CUTYPE=INDIVIDUAL;PARTSTAT=ACCEPTED:web
	@bandits-clan.ru
ATTENDEE;CN="Wandering stranger";CUTYPE=INDIVIDUAL;PARTSTAT=
	ACCEPTED:web@bandits-clan.ru
ATTENDEE;CN="VillainFDI";CUTYPE=INDIVIDUAL;PARTSTAT=ACCEPTED
	:web@bandits-clan.ru
ATTENDEE;CN="AHDPEu";CUTYPE=INDIVIDUAL;PARTSTAT=ACCEPTED:web
	@bandits-clan.ru
END:VEVENT
END:VCALENDAR
