BEGIN:VCALENDAR
VERSION:2.0
PRODID:-//InvisionCommunity Events 4.7.14//EN
METHOD:PUBLISH
CALSCALE:GREGORIAN
REFRESH-INTERVAL:PT15M
X-PUBLISHED-TTL:PT15M
X-WR-CALNAME:The Elder Scrolls Online
NAME:The Elder Scrolls Online
BEGIN:VTIMEZONE
TZID:Europe/London
TZURL:http://tzurl.org/zoneinfo/Europe/London
X-LIC-LOCATION:Europe/London
BEGIN:DAYLIGHT
TZOFFSETFROM:+0000
TZOFFSETTO:+0100
TZNAME:BST
DTSTART:20190331T020000Z
RRULE:FREQ=YEARLY;BYMONTH=3;BYDAY=-1SU
END:DAYLIGHT
BEGIN:STANDARD
TZOFFSETFROM:+0100
TZOFFSETTO:+0000
TZNAME:GMT
DTSTART:20191027T020000Z
RRULE:FREQ=YEARLY;BYMONTH=10;BYDAY=-1SU
END:STANDARD
END:VTIMEZONE
BEGIN:VEVENT
SUMMARY:(TESO) Учебный нормал-триал на выбо
	р
DTSTAMP:20190121T105510Z
SEQUENCE:2
UID:4907-1-afb15bc42254ad5fb0481ce5e9c8144d@forum.bandits-clan.ru
ORGANIZER;CN="Bandit":web@bandits-clan.ru
DESCRIPTION:С 16 00 по Мск\n
	 Всем нович
	кам и желаю
	щим получит
	ь заветную от
	метку в рост
	ере гильдии! До
	бро пожаловать 
	в учебный триал по
	 вашему выбору!\n\n
	Соберемся в тимс
	пике и решим\, куда по
	йдем - любой триал К
	раглорна\, любой триал
	 DLC - ваше желание буде
	т для меня законом 
	\n\nТебе уже испо
	лнилось 160 Чем
	пионских очков
	? Пора начинать 
	взрослую жизнь в 
	игре! Захвати тимспик\
	, табард и не забудь - сбор
	 будет в Гилдхолле!\n\n12 человек\
	, звание Thief+/Soldier+ (анке
	та на форуме и зах
	од в тимспик - получить эт
	о звание проще простого!)\, от
	 160 ЧП - 1-2 танка\, 2 хилера
	\, остальные - любые дд.\n\
	nПриоритет новичкам\n\n\n
	\nP.S. Объясняю кратко и 
	внятно. На 1 триал у нас у
	йдет от 30 минут (Аэтериан
	ский Архив) до 1\,2-1\,5 час
	а (это если мы по
	йдем в ХоФ или Асилум\, а вы там кааааак 
	начнете вылетать... )
DTSTART:20190123T130000Z
ATTENDEE;CN="RichiFromHell";CUTYPE=INDIVIDUAL;PARTSTAT=ACCEP
	TED:web@bandits-clan.ru
ATTENDEE;CN="Bandit";CUTYPE=INDIVIDUAL;PARTSTAT=ACCEPTED:web
	@bandits-clan.ru
ATTENDEE;CN="Zbignev";CUTYPE=INDIVIDUAL;PARTSTAT=ACCEPTED:we
	b@bandits-clan.ru
ATTENDEE;CN="Legrat";CUTYPE=INDIVIDUAL;PARTSTAT=ACCEPTED:web
	@bandits-clan.ru
ATTENDEE;CN="osataya";CUTYPE=INDIVIDUAL;PARTSTAT=ACCEPTED:we
	b@bandits-clan.ru
ATTENDEE;CN="NyanAttack";CUTYPE=INDIVIDUAL;PARTSTAT=ACCEPTED
	:web@bandits-clan.ru
ATTENDEE;CN="Murmilon";CUTYPE=INDIVIDUAL;PARTSTAT=ACCEPTED:w
	eb@bandits-clan.ru
END:VEVENT
END:VCALENDAR
