BEGIN:VCALENDAR
VERSION:2.0
PRODID:-//InvisionCommunity Events 4.7.14//EN
METHOD:PUBLISH
CALSCALE:GREGORIAN
REFRESH-INTERVAL:PT15M
X-PUBLISHED-TTL:PT15M
X-WR-CALNAME:The Elder Scrolls Online
NAME:The Elder Scrolls Online
BEGIN:VTIMEZONE
TZID:Europe/London
TZURL:http://tzurl.org/zoneinfo/Europe/London
X-LIC-LOCATION:Europe/London
BEGIN:DAYLIGHT
TZOFFSETFROM:+0000
TZOFFSETTO:+0100
TZNAME:BST
DTSTART:20190331T020000Z
RRULE:FREQ=YEARLY;BYMONTH=3;BYDAY=-1SU
END:DAYLIGHT
BEGIN:STANDARD
TZOFFSETFROM:+0100
TZOFFSETTO:+0000
TZNAME:GMT
DTSTART:20191027T020000Z
RRULE:FREQ=YEARLY;BYMONTH=10;BYDAY=-1SU
END:STANDARD
END:VTIMEZONE
BEGIN:VEVENT
SUMMARY:[TESO] PvP Imperial City 160+
DTSTAMP:20190120T220744Z
SEQUENCE:0
UID:4905-1-afb15bc42254ad5fb0481ce5e9c8144d@forum.bandits-clan.ru
ORGANIZER;CN="Keshanberg":web@bandits-clan.ru
DESCRIPTION:\n ​Зачем нам это:\n1. у
	бьем всех на своем пу
	ти (PvP)\n2. захватыва
	ем флаги\, получаем альянс п
	оинты - информация о них здесь:http://en.uesp.net/
	w...Alliance_Points\n3. фармим тель-вары!
	 - информация о них здесь: http://www.tesonline...o
	nes-guide-8927\n4. закрываем боссов\nТреб
	ования: Тимспик (DLC Imperial City и
	ли ESO+) \nCбор в Военном Гильдхолле (пкм @Kes
	hanberg - visit primary / посетить 
	дом) А это вам н
	ебольшая памятк
	а\, какие трофеи с
	тоит копить\, а ка
	кие можно открыть по разу (для 
	ачивки) и забыть про них:\nMonstrious Tooth — A
	gility (кольца)\nBloody Claw — Agility (ожерелье)\nBone 
	Shard — Willpower (кольца)\nDark Ether — Willpower (ожер
	елье)\nMark of the Legion — Endurance (ож
	ерелье) Игроки 1
	60+ за Даггерфолл Ковенант\
	, приходите на вылазку в Имперский Город!
DTSTART:20190121T173000Z
ATTENDEE;CN="Keshanberg";CUTYPE=INDIVIDUAL;PARTSTAT=ACCEPTED
	:web@bandits-clan.ru
END:VEVENT
END:VCALENDAR
