BEGIN:VCALENDAR
VERSION:2.0
PRODID:-//InvisionCommunity Events 4.7.14//EN
METHOD:PUBLISH
CALSCALE:GREGORIAN
REFRESH-INTERVAL:PT15M
X-PUBLISHED-TTL:PT15M
X-WR-CALNAME:The Elder Scrolls Online
NAME:The Elder Scrolls Online
BEGIN:VTIMEZONE
TZID:Europe/London
TZURL:http://tzurl.org/zoneinfo/Europe/London
X-LIC-LOCATION:Europe/London
BEGIN:DAYLIGHT
TZOFFSETFROM:+0000
TZOFFSETTO:+0100
TZNAME:BST
DTSTART:20190331T020000Z
RRULE:FREQ=YEARLY;BYMONTH=3;BYDAY=-1SU
END:DAYLIGHT
BEGIN:STANDARD
TZOFFSETFROM:+0100
TZOFFSETTO:+0000
TZNAME:GMT
DTSTART:20191027T020000Z
RRULE:FREQ=YEARLY;BYMONTH=10;BYDAY=-1SU
END:STANDARD
END:VTIMEZONE
BEGIN:VEVENT
SUMMARY:(TESO) Перья в короне Неустраш
	имых (Болгрул)
DTSTAMP:20190120T220209Z
SEQUENCE:2
UID:4904-1-afb15bc42254ad5fb0481ce5e9c8144d@forum.bandits-clan.ru
ORGANIZER;CN="Aquifolius":web@bandits-clan.ru
DESCRIPTION:Предлагаю
	 поделать вм
	есте задания
	 Болгрула на
	 вылазки\, к
	оторые до
	ступны геро
	ям буквально
	 с момента всту
	пления в гильдию
	 Неустрашимых. Че
	м больше нас буде
	т\, тем лучше! 
	Почему? Потом
	у что в отлич
	ие от осталь
	ных квестов Не
	устрашимых\, этим
	и квестами можно 
	делиться в группе\,
	 а всего возможно 15 
	разных квестов (тр
	и альянса\, в каждо
	м по 5 квестов)
	. Соответстве
	нно\, тем выше ш
	анс на максим
	альное количеств
	о квестов. Итак:\
	n1. Прокачаем гильд
	ию Неустрашимых\n2
	. Соберём скай
	шарды в вылазках\
	n3. Кофры с наградами н
	а продажу Требования:\
	n- любой альянс\n- гер
	ои 10+ уровня\, т.е. 
	вступившие в гиль
	дию Неустрашимых\n- табар
	д\, тимспик (будем в канале \"Мировые босс
	ы\")
DTSTART:20190121T163000Z
ATTENDEE;CN="McKenzo";CUTYPE=INDIVIDUAL;PARTSTAT=ACCEPTED:we
	b@bandits-clan.ru
ATTENDEE;CN="Zbignev";CUTYPE=INDIVIDUAL;PARTSTAT=ACCEPTED:we
	b@bandits-clan.ru
ATTENDEE;CN="Aquifolius";CUTYPE=INDIVIDUAL;PARTSTAT=ACCEPTED
	:web@bandits-clan.ru
ATTENDEE;CN="GKS";CUTYPE=INDIVIDUAL;PARTSTAT=ACCEPTED:web@ba
	ndits-clan.ru
ATTENDEE;CN="FreeDown";CUTYPE=INDIVIDUAL;PARTSTAT=ACCEPTED:w
	eb@bandits-clan.ru
ATTENDEE;CN="Veerbat";CUTYPE=INDIVIDUAL;PARTSTAT=ACCEPTED:we
	b@bandits-clan.ru
END:VEVENT
END:VCALENDAR
