BEGIN:VCALENDAR
VERSION:2.0
PRODID:-//InvisionCommunity Events 4.7.14//EN
METHOD:PUBLISH
CALSCALE:GREGORIAN
REFRESH-INTERVAL:PT15M
X-PUBLISHED-TTL:PT15M
X-WR-CALNAME:The Elder Scrolls Online
NAME:The Elder Scrolls Online
BEGIN:VTIMEZONE
TZID:Europe/London
TZURL:http://tzurl.org/zoneinfo/Europe/London
X-LIC-LOCATION:Europe/London
BEGIN:DAYLIGHT
TZOFFSETFROM:+0000
TZOFFSETTO:+0100
TZNAME:BST
DTSTART:20190331T020000Z
RRULE:FREQ=YEARLY;BYMONTH=3;BYDAY=-1SU
END:DAYLIGHT
BEGIN:STANDARD
TZOFFSETFROM:+0100
TZOFFSETTO:+0000
TZNAME:GMT
DTSTART:20191027T020000Z
RRULE:FREQ=YEARLY;BYMONTH=10;BYDAY=-1SU
END:STANDARD
END:VTIMEZONE
BEGIN:VEVENT
SUMMARY:[TESO] Путь Воина-Мага-Вора-Барда-Ж
	реца-Охотника
DTSTAMP:20190118T163343Z
SEQUENCE:0
UID:4895-1-afb15bc42254ad5fb0481ce5e9c8144d@forum.bandits-clan.ru
ORGANIZER;CN="Tykot":web@bandits-clan.ru
DESCRIPTION:\n\nПуть Вои
	на-Мага-Вора-Барда-Ж
	реца-Охотника возвращается 
	на день рождения Vanguard Ba
	ndits!\n\nПереполох се
	редины года заст
	ал врасплох в янв
	аре\, что делать?
	 Сиродил в ог
	не! В связи 
	с военным по
	ложением\, от
	крывается допо
	лнительный вербов
	очный центр. Нам\, к
	ак и всегда\, нужн
	ы самые свирепые\
	, самые сильные\,
	 самые стойкие\, 
	самые коварные и 
	самые ловкие рекрут
	ы. Для того\, чтобы
	 доказать\, что
	 он хорош во вс
	ем\, кандидат
	 должен прой
	ти полосу пре
	пятствий (Пут
	ь Воина-Мага-
	Вора-Барда-
	Жреца-Охотни
	ка). От тебя 
	потребуютс
	я самые разн
	ые и неожида
	нные навыки 
	и способности. 
	Придётся дратьс
	я голым в соло пр
	отив ворлд-босс
	а\, а ты пришёл кр
	афтером? Не пове
	зло. Нужно будет
	 выковать орочий 
	меч\, а ты ничего 
	не смыслящий в ре
	месле воин? В друго
	й раз\, приятель! До
	кажи\, что ты спос
	обен на всё - зах
	оди в игру и нач
	ни свой Путь Воина-Ма
	га-Вора-Барда-Жреца-Охо
	тника 20 января в 18:
	00 по МСК. Тот\, 
	кто первым 
	пройдет пол
	осу препятствий\,
	 будет объявлен поб
	едителем и получит звон
	кий приз - 300.000 золота Приз 
	за второе место - 200.000 зо
	лото\n\nТретий призё
	р заработает 100.0
	00 золота Все о
	стальные\, кт
	о успешно з
	авершит Пу
	ть Воина-Мага
	-Вора-Барда-Ж
	реца-Охотник
	а получат памятн
	ые сувениры\n\nТребования к 
	участникам: наличие звания T
	hief+/Soldier+ (анкета на фор
	уме+тимспик)\, табард (гильдейская накид
	ка)\, любой уровень!
DTSTART:20190120T150000Z
ATTENDEE;CN="Nikvilan";CUTYPE=INDIVIDUAL;PARTSTAT=ACCEPTED:w
	eb@bandits-clan.ru
ATTENDEE;CN="Tykot";CUTYPE=INDIVIDUAL;PARTSTAT=ACCEPTED:web@
	bandits-clan.ru
ATTENDEE;CN="Ghost_77";CUTYPE=INDIVIDUAL;PARTSTAT=ACCEPTED:w
	eb@bandits-clan.ru
ATTENDEE;CN="Nedokot";CUTYPE=INDIVIDUAL;PARTSTAT=ACCEPTED:we
	b@bandits-clan.ru
ATTENDEE;CN="Zefir'ra";CUTYPE=INDIVIDUAL;PARTSTAT=ACCEPTED:w
	eb@bandits-clan.ru
ATTENDEE;CN="Harrin";CUTYPE=INDIVIDUAL;PARTSTAT=ACCEPTED:web
	@bandits-clan.ru
ATTENDEE;CN="Damn vegan";CUTYPE=INDIVIDUAL;PARTSTAT=ACCEPTED
	:web@bandits-clan.ru
END:VEVENT
END:VCALENDAR
