BEGIN:VCALENDAR
VERSION:2.0
PRODID:-//InvisionCommunity Events 4.7.14//EN
METHOD:PUBLISH
CALSCALE:GREGORIAN
REFRESH-INTERVAL:PT15M
X-PUBLISHED-TTL:PT15M
X-WR-CALNAME:The Elder Scrolls Online
NAME:The Elder Scrolls Online
BEGIN:VTIMEZONE
TZID:Europe/London
TZURL:http://tzurl.org/zoneinfo/Europe/London
X-LIC-LOCATION:Europe/London
BEGIN:DAYLIGHT
TZOFFSETFROM:+0000
TZOFFSETTO:+0100
TZNAME:BST
DTSTART:20190331T020000Z
RRULE:FREQ=YEARLY;BYMONTH=3;BYDAY=-1SU
END:DAYLIGHT
BEGIN:STANDARD
TZOFFSETFROM:+0100
TZOFFSETTO:+0000
TZNAME:GMT
DTSTART:20191027T020000Z
RRULE:FREQ=YEARLY;BYMONTH=10;BYDAY=-1SU
END:STANDARD
END:VTIMEZONE
BEGIN:VEVENT
SUMMARY:(TESO) Обучающий veteran Hel Ra Citadel (vHRC)
DTSTAMP:20190114T144338Z
SEQUENCE:2
UID:4879-1-afb15bc42254ad5fb0481ce5e9c8144d@forum.bandits-clan.ru
ORGANIZER;CN="Nikvilan":web@bandits-clan.ru
DESCRIPTION:Обратите вн
	имание\, что
	 время нача
	ла рейда было измене
	но с целью избежать пересечения рейдо
	в. Что? Hel Ra Citadel veteran mode.\nГде? Grand Topal Hide
	away. Для того\, чтоб
	ы туда попасть\, необ
	ходимо в ростере Гильд
	ии найти @Kibert и посетить её
	 дом.\nКогда? Начало
	 события: 18:00 по 
	мск. Ориентир
	овочная длит
	ельность соб
	ытия: 2 часа.
	 Цель: обуч
	ить новичко
	в тактике п
	рохождения
	 данного триала. 
	Требования:\nОтметка о
	 прохождении данного триала в no
	rmal mode\nМинимальное звание: Raider/W
	arrior\nМинимальный уровень: 300 cp\
	nОдетая накидка Гильдии Daggerfall/Vanguard 
	Bandits\nTeamSpeak В случае
	 успешного 
	прохождения\
	, всем прошедшим 
	будет поставлена отм
	етка в ростере Гильди
	и. 1 танк\, 2 хила\, 9
	 дд будут для нас ид
	еальным составом.\nКрайне ж
	елательно 4 рдд иметь Crus
	hing Shock. Пишите в комме
	нтариях свою рол
	ь и Ваш UI.\nПрих
	одите заранее\, вместо опоздавших набере
	м желающих из чата.
DTSTART:20190117T150000Z
ATTENDEE;CN="Nikvilan";CUTYPE=INDIVIDUAL;PARTSTAT=ACCEPTED:w
	eb@bandits-clan.ru
ATTENDEE;CN="greenade";CUTYPE=INDIVIDUAL;PARTSTAT=ACCEPTED:w
	eb@bandits-clan.ru
ATTENDEE;CN="Ragga-Max";CUTYPE=INDIVIDUAL;PARTSTAT=ACCEPTED:
	web@bandits-clan.ru
ATTENDEE;CN="s1ferot";CUTYPE=INDIVIDUAL;PARTSTAT=ACCEPTED:we
	b@bandits-clan.ru
ATTENDEE;CN="MinaevNaKone";CUTYPE=INDIVIDUAL;PARTSTAT=ACCEPT
	ED:web@bandits-clan.ru
ATTENDEE;CN="Zbignev";CUTYPE=INDIVIDUAL;PARTSTAT=ACCEPTED:we
	b@bandits-clan.ru
ATTENDEE;CN="RichiFromHell";CUTYPE=INDIVIDUAL;PARTSTAT=ACCEP
	TED:web@bandits-clan.ru
ATTENDEE;CN="Aabsolute";CUTYPE=INDIVIDUAL;PARTSTAT=ACCEPTED:
	web@bandits-clan.ru
ATTENDEE;CN="Harrin";CUTYPE=INDIVIDUAL;PARTSTAT=ACCEPTED:web
	@bandits-clan.ru
ATTENDEE;CN="EinarSnow";CUTYPE=INDIVIDUAL;PARTSTAT=ACCEPTED:
	web@bandits-clan.ru
END:VEVENT
END:VCALENDAR
