BEGIN:VCALENDAR
VERSION:2.0
PRODID:-//InvisionCommunity Events 4.7.14//EN
METHOD:PUBLISH
CALSCALE:GREGORIAN
REFRESH-INTERVAL:PT15M
X-PUBLISHED-TTL:PT15M
X-WR-CALNAME:The Elder Scrolls Online
NAME:The Elder Scrolls Online
BEGIN:VTIMEZONE
TZID:Europe/London
TZURL:http://tzurl.org/zoneinfo/Europe/London
X-LIC-LOCATION:Europe/London
BEGIN:DAYLIGHT
TZOFFSETFROM:+0000
TZOFFSETTO:+0100
TZNAME:BST
DTSTART:20190331T020000Z
RRULE:FREQ=YEARLY;BYMONTH=3;BYDAY=-1SU
END:DAYLIGHT
BEGIN:STANDARD
TZOFFSETFROM:+0100
TZOFFSETTO:+0000
TZNAME:GMT
DTSTART:20191027T020000Z
RRULE:FREQ=YEARLY;BYMONTH=10;BYDAY=-1SU
END:STANDARD
END:VTIMEZONE
BEGIN:VEVENT
SUMMARY:[TESO] PvP Imperial City
DTSTAMP:20190114T140601Z
SEQUENCE:0
UID:4878-1-afb15bc42254ad5fb0481ce5e9c8144d@forum.bandits-clan.ru
ORGANIZER;CN="Keshanberg":web@bandits-clan.ru
DESCRIPTION:Игроки 160+ за 
	Даггерфолл 
	Ковенант\, прихо
	дите на вылазку 
	в Имперский Город! ​Зачем
	 нам это:\n1. убьем всех на
	 своем пути (PvP)\n2. 
	захватываем флаги\,
	 получаем альянс поинты - информаци
	я о них здесь:http://en.uesp.net/w...Alliance_Poin
	ts\n3. фармим тель-вары! - информация о н
	их здесь: http://www.tesonline...ones-guide-8927\
	n4. закрываем боссов\nТребования:\nТим
	спик (DLC Imperial City или ESO+)  Cбор в 
	Военном Гильдхолле (пкм @Keshanberg - 
	visit primary / посетить до
	м) А это вам неб
	ольшая памятка\
	, какие трофеи сто
	ит копить\, а какие
	 можно открыть по разу (для ачи
	вки) и забыть про них: Monstrious Tooth — Agili
	ty (кольца)\nBloody Claw — Agility (ожерелье)\nBone S
	hard — Willpower (кольца)\nDark Ether — Willpower (ожере
	лье)\nMark of the Legion — Endurance (ожерелье)
DTSTART:20190114T165000Z
ATTENDEE;CN="Burime";CUTYPE=INDIVIDUAL;PARTSTAT=ACCEPTED:web
	@bandits-clan.ru
ATTENDEE;CN="Veerbat";CUTYPE=INDIVIDUAL;PARTSTAT=ACCEPTED:we
	b@bandits-clan.ru
ATTENDEE;CN="Keshanberg";CUTYPE=INDIVIDUAL;PARTSTAT=ACCEPTED
	:web@bandits-clan.ru
ATTENDEE;CN="BioBalans";CUTYPE=INDIVIDUAL;PARTSTAT=ACCEPTED:
	web@bandits-clan.ru
END:VEVENT
END:VCALENDAR
