BEGIN:VCALENDAR
VERSION:2.0
PRODID:-//InvisionCommunity Events 4.7.14//EN
METHOD:PUBLISH
CALSCALE:GREGORIAN
REFRESH-INTERVAL:PT15M
X-PUBLISHED-TTL:PT15M
X-WR-CALNAME:The Elder Scrolls Online
NAME:The Elder Scrolls Online
BEGIN:VTIMEZONE
TZID:Europe/London
TZURL:http://tzurl.org/zoneinfo/Europe/London
X-LIC-LOCATION:Europe/London
BEGIN:DAYLIGHT
TZOFFSETFROM:+0000
TZOFFSETTO:+0100
TZNAME:BST
DTSTART:20190331T020000Z
RRULE:FREQ=YEARLY;BYMONTH=3;BYDAY=-1SU
END:DAYLIGHT
BEGIN:STANDARD
TZOFFSETFROM:+0100
TZOFFSETTO:+0000
TZNAME:GMT
DTSTART:20191027T020000Z
RRULE:FREQ=YEARLY;BYMONTH=10;BYDAY=-1SU
END:STANDARD
END:VTIMEZONE
BEGIN:VEVENT
SUMMARY:(TESO) Фармовый Aetherian Archive (nAA)
DTSTAMP:20190102T032217Z
SEQUENCE:2
UID:4795-1-afb15bc42254ad5fb0481ce5e9c8144d@forum.bandits-clan.ru
ORGANIZER;CN="Kratos855":web@bandits-clan.ru
DESCRIPTION:В 14-30 по МСК\n\nНужны\n16
	0 cp\nГильдейский табард\, сбор в г
	ильдхоле\nTeam Speak\n\n1 танк\, 2 х
	ила\, 9 дд\n\nКто иде
	т хилом или танко
	м\, пишите в комм
	ентариях свою роль
	\, чтобы у нас не по
	лучилось на старте 5
	 хилов и 4 танка.\nП
	риходите заран
	ее\, в том числе в
	 тимспик\, вмест
	о опоздавших на
	берем желающих и
	з чата.\nЕсли ваш 
	ник в игре отл
	ичается от ника на форуме
	\, укажите в комментариях свой игровой ни
	к.
DTSTART:20190102T113000Z
ATTENDEE;CN="Kratos855";CUTYPE=INDIVIDUAL;PARTSTAT=ACCEPTED:
	web@bandits-clan.ru
ATTENDEE;CN="Wandering stranger";CUTYPE=INDIVIDUAL;PARTSTAT=
	ACCEPTED:web@bandits-clan.ru
ATTENDEE;CN="ST-IX";CUTYPE=INDIVIDUAL;PARTSTAT=ACCEPTED:web@
	bandits-clan.ru
END:VEVENT
END:VCALENDAR
