BEGIN:VCALENDAR
VERSION:2.0
PRODID:-//InvisionCommunity Events 4.7.14//EN
METHOD:PUBLISH
CALSCALE:GREGORIAN
REFRESH-INTERVAL:PT15M
X-PUBLISHED-TTL:PT15M
X-WR-CALNAME:The Elder Scrolls Online
NAME:The Elder Scrolls Online
BEGIN:VTIMEZONE
TZID:Europe/London
TZURL:http://tzurl.org/zoneinfo/Europe/London
X-LIC-LOCATION:Europe/London
BEGIN:DAYLIGHT
TZOFFSETFROM:+0000
TZOFFSETTO:+0100
TZNAME:BST
DTSTART:20190331T020000Z
RRULE:FREQ=YEARLY;BYMONTH=3;BYDAY=-1SU
END:DAYLIGHT
BEGIN:STANDARD
TZOFFSETFROM:+0100
TZOFFSETTO:+0000
TZNAME:GMT
DTSTART:20191027T020000Z
RRULE:FREQ=YEARLY;BYMONTH=10;BYDAY=-1SU
END:STANDARD
END:VTIMEZONE
BEGIN:VEVENT
SUMMARY:[TESO] hm Direfrost Keep\, обучающий
DTSTAMP:20190101T184543Z
SEQUENCE:2
UID:4794-1-afb15bc42254ad5fb0481ce5e9c8144d@forum.bandits-clan.ru
ORGANIZER;CN="Tykot":web@bandits-clan.ru
DESCRIPTION:Куда идём? В 23
	-00 по МСК проходим ветеран
	скую версию данжа Diref
	rost Keep с включен
	ием хардмод р
	ежима Что пол
	учим? Вещи из н
	е самых актуал
	ьных сетов\, но
	 зато хорошу
	ю монстр-шап
	ку и шанс др
	опа недеш
	евого мот
	ива\nПодробное о
	писание тактики на кажд
	ом боссе Требования: Звание Thi
	ef\, Soldier или выше\n200 cp\nГильдейск
	ий табард\nTeam Speak Нам нужны: 1
	 танк\, 1 хил\, 1 дд\, (если буд
	ет хотя бы один дд с дп
	с 35к+\, то я могу пойти 
	хилом или танком\,
	 тогда нужны буду
	т 2 дд\, дпс вто
	рого дд значен
	ия не имеет) Пиши
	те в комментария
	х свою роль\, кто 
	не указал роль - 
	на событие не зап
	исался.\nПриходи
	те заранее\, в 
	том числе в тим
	спик\, вместо оп
	оздавших набер
	ем желающих из чат
	а.\nЕсли ваш ник 
	в игре отличае
	тся от ника на ф
	оруме\, укажит
	е в комментар
	иях свой игро
	вой ник.\nПри на
	личии второго опытного РЛа возможно 
	создание двух рейдов
DTSTART:20190104T200000Z
ATTENDEE;CN="Tykot";CUTYPE=INDIVIDUAL;PARTSTAT=ACCEPTED:web@
	bandits-clan.ru
ATTENDEE;CN="Versuta";CUTYPE=INDIVIDUAL;PARTSTAT=ACCEPTED:we
	b@bandits-clan.ru
ATTENDEE;CN="Kotolypovka";CUTYPE=INDIVIDUAL;PARTSTAT=ACCEPTE
	D:web@bandits-clan.ru
END:VEVENT
END:VCALENDAR
