BEGIN:VCALENDAR
VERSION:2.0
PRODID:-//InvisionCommunity Events 4.7.14//EN
METHOD:PUBLISH
CALSCALE:GREGORIAN
REFRESH-INTERVAL:PT15M
X-PUBLISHED-TTL:PT15M
X-WR-CALNAME:The Elder Scrolls Online
NAME:The Elder Scrolls Online
BEGIN:VTIMEZONE
TZID:Europe/London
TZURL:http://tzurl.org/zoneinfo/Europe/London
X-LIC-LOCATION:Europe/London
BEGIN:DAYLIGHT
TZOFFSETFROM:+0000
TZOFFSETTO:+0100
TZNAME:BST
DTSTART:20190331T020000Z
RRULE:FREQ=YEARLY;BYMONTH=3;BYDAY=-1SU
END:DAYLIGHT
BEGIN:STANDARD
TZOFFSETFROM:+0100
TZOFFSETTO:+0000
TZNAME:GMT
DTSTART:20191027T020000Z
RRULE:FREQ=YEARLY;BYMONTH=10;BYDAY=-1SU
END:STANDARD
END:VTIMEZONE
BEGIN:VEVENT
SUMMARY:[TESO] Ночной триал (nCR)\, обучающий
DTSTAMP:20190101T100805Z
SEQUENCE:2
UID:4788-1-afb15bc42254ad5fb0481ce5e9c8144d@forum.bandits-clan.ru
ORGANIZER;CN="Tykot":web@bandits-clan.ru
DESCRIPTION:Куда идём? В 23-00 по МСК
	 проходим normal версию т
	риала Cloudrest Что получим? Вещи из
	 топовых сетов Relequen\, Olori
	me и др.\nОтмет
	ку о прохо
	ждении триала д
	ля повышения звания в г
	ильдии Требования: Звание 
	Thief или выше\n160 cp\nГильдейский табард
	\nTeam Speak\nSummerset Нам нужны: 1 или 2 
	танка\, 2 хила\, 8 или
	 9 дд Кто идет хил
	ом или танком\, 
	пишите в коммент
	ариях свою роль\, что
	бы у нас не получило
	сь на старте 5 хилов
	 и 4 танка.\nПриход
	ите заранее\, в
	 том числе в тим
	спик\, вместо оп
	оздавших набер
	ем желающих из чат
	а.\nЕсли ваш ник 
	в игре отличае
	тся от ника на ф
	оруме\, укажи
	те в коммент
	ариях свой иг
	ровой ник.\nЧе
	ловек счита
	ется записав
	шимся на событ
	ие тогда\, когда он
	 подтверждает сво
	ё участие кнопкой \
	"Пойду\" (справа).
	\nКомментарии н
	е являются за
	писью\, они слу
	жат для распределения ролей\, обсуждения
	 сетов и так далее.
DTSTART:20190102T200000Z
ATTENDEE;CN="Tykot";CUTYPE=INDIVIDUAL;PARTSTAT=ACCEPTED:web@
	bandits-clan.ru
ATTENDEE;CN="Wandering stranger";CUTYPE=INDIVIDUAL;PARTSTAT=
	ACCEPTED:web@bandits-clan.ru
ATTENDEE;CN="AspidSenpai";CUTYPE=INDIVIDUAL;PARTSTAT=ACCEPTE
	D:web@bandits-clan.ru
ATTENDEE;CN="ELEKTRIC322";CUTYPE=INDIVIDUAL;PARTSTAT=ACCEPTE
	D:web@bandits-clan.ru
ATTENDEE;CN="greenade";CUTYPE=INDIVIDUAL;PARTSTAT=ACCEPTED:w
	eb@bandits-clan.ru
ATTENDEE;CN="Neuro-Mancer";CUTYPE=INDIVIDUAL;PARTSTAT=ACCEPT
	ED:web@bandits-clan.ru
ATTENDEE;CN="gaffer";CUTYPE=INDIVIDUAL;PARTSTAT=ACCEPTED:web
	@bandits-clan.ru
ATTENDEE;CN="Gyngnir_99";CUTYPE=INDIVIDUAL;PARTSTAT=ACCEPTED
	:web@bandits-clan.ru
ATTENDEE;CN="Shaber";CUTYPE=INDIVIDUAL;PARTSTAT=ACCEPTED:web
	@bandits-clan.ru
ATTENDEE;CN="npstrr";CUTYPE=INDIVIDUAL;PARTSTAT=ACCEPTED:web
	@bandits-clan.ru
ATTENDEE;CN="Iterator";CUTYPE=INDIVIDUAL;PARTSTAT=ACCEPTED:w
	eb@bandits-clan.ru
ATTENDEE;CN="Shorrkhann";CUTYPE=INDIVIDUAL;PARTSTAT=ACCEPTED
	:web@bandits-clan.ru
ATTENDEE;CN="Fox665";CUTYPE=INDIVIDUAL;PARTSTAT=ACCEPTED:web
	@bandits-clan.ru
END:VEVENT
END:VCALENDAR
