BEGIN:VCALENDAR
VERSION:2.0
PRODID:-//InvisionCommunity Events 4.7.14//EN
METHOD:PUBLISH
CALSCALE:GREGORIAN
REFRESH-INTERVAL:PT15M
X-PUBLISHED-TTL:PT15M
X-WR-CALNAME:The Elder Scrolls Online
NAME:The Elder Scrolls Online
BEGIN:VTIMEZONE
TZID:Europe/London
TZURL:http://tzurl.org/zoneinfo/Europe/London
X-LIC-LOCATION:Europe/London
BEGIN:DAYLIGHT
TZOFFSETFROM:+0000
TZOFFSETTO:+0100
TZNAME:BST
DTSTART:20190331T020000Z
RRULE:FREQ=YEARLY;BYMONTH=3;BYDAY=-1SU
END:DAYLIGHT
BEGIN:STANDARD
TZOFFSETFROM:+0100
TZOFFSETTO:+0000
TZNAME:GMT
DTSTART:20191027T020000Z
RRULE:FREQ=YEARLY;BYMONTH=10;BYDAY=-1SU
END:STANDARD
END:VTIMEZONE
BEGIN:VEVENT
SUMMARY:[TESO] Дуэльный Турнир
DTSTAMP:20190101T050818Z
SEQUENCE:2
UID:4786-1-afb15bc42254ad5fb0481ce5e9c8144d@forum.bandits-clan.ru
ORGANIZER;CN="Tykot":web@bandits-clan.ru
DESCRIPTION: В честь дня рождения гильди
	и Vanguard Bandits 27 января с 16-
	00 по МСК будет провед
	ен Открытый турнир
	 игрового сообществ
	а Bandits\, на котор
	ый будут пр
	иглашены иг
	роки из дру
	гих гильдий.
	 К участию в турнире д
	опускаются все желающие игроки гильдий 
	Daggerfall Bandits и Vanguard Bandits в звании Thief\, Sol
	dier или выше (анкет
	а на форуме+ти
	мспик)\, а та
	кже приглашен
	ные игроки из други
	х гильдий. Призовой фо
	нд турнира более 1.500.000 зол
	ота! Приз за I место составит 700.00
	0 \nПриз за II место - 500.000 \nПриз за I
	II место - 300.000 \nВсе
	 остальные у
	частники по
	лучат скромн
	ые\, но прия
	тные возна
	граждения\,
	 согласно о
	бычному п
	улу Бойцов
	ского Клуба. 
	Первый этап ту
	рнира пройдет
	 по швейцарской си
	стеме в 7 туров. За каждую
	 победу начисляется 1 очко\, 
	за ничью - 0\,5\, за поражени
	е - 0. Игроки\, набравши
	е 5 и более очков\, 
	проходят в фина
	л. Игроки\, прои
	гравшие три бо
	я\, выбывают д
	осрочно.  Фина
	л проходит по
	 круговой сис
	теме (каждый
	 с каждым)\,
	 победитель
	 определяетс
	я по наиболь
	шему количе
	ству набран
	ных очков.\nВ
	 случае де
	лежа перв
	ого места 
	победитель оп
	ределяется в дуэл
	и с увеличенным контр
	олем времени - 20 мину
	т на бой. В случае ни
	чьи в 20-минутной 
	дуэли\, призы 
	делятся поро
	вну.\nВ случ
	ае дележа
	 второго и
	ли третье
	го призов
	ого места
	 призы ра
	спределя
	ются поровн
	у между все
	ми поделивш
	ими место игрок
	ами. Правила дуэл
	ей:\nМожно использ
	овать любые сеты\
	, яды\, зелья\, з
	ачарования\n
	Нельзя менять
	 персонажа во вр
	емя турнира\nНичья
	 присуждается\, ес
	ли бой длится бо
	лее 5 минут\, и у обо
	их игроков в мом
	ент присуждени
	я ничьи более 25
	% хп\nВсе уч
	астники н
	осят гил
	ьдейские табард
	ы и соблюдают правила поведения игро
	вого сообщества Bandits
DTSTART:20190127T130000Z
ATTENDEE;CN="Tykot";CUTYPE=INDIVIDUAL;PARTSTAT=ACCEPTED:web@
	bandits-clan.ru
ATTENDEE;CN="arxangelden";CUTYPE=INDIVIDUAL;PARTSTAT=ACCEPTE
	D:web@bandits-clan.ru
ATTENDEE;CN="Dolphin";CUTYPE=INDIVIDUAL;PARTSTAT=ACCEPTED:we
	b@bandits-clan.ru
ATTENDEE;CN="MinaevNaKone";CUTYPE=INDIVIDUAL;PARTSTAT=ACCEPT
	ED:web@bandits-clan.ru
ATTENDEE;CN="Damn vegan";CUTYPE=INDIVIDUAL;PARTSTAT=ACCEPTED
	:web@bandits-clan.ru
ATTENDEE;CN="exela";CUTYPE=INDIVIDUAL;PARTSTAT=ACCEPTED:web@
	bandits-clan.ru
ATTENDEE;CN="Cold'est";CUTYPE=INDIVIDUAL;PARTSTAT=ACCEPTED:w
	eb@bandits-clan.ru
ATTENDEE;CN="Nefero";CUTYPE=INDIVIDUAL;PARTSTAT=ACCEPTED:web
	@bandits-clan.ru
END:VEVENT
END:VCALENDAR
