BEGIN:VCALENDAR
VERSION:2.0
PRODID:-//InvisionCommunity Events 4.7.14//EN
METHOD:PUBLISH
CALSCALE:GREGORIAN
REFRESH-INTERVAL:PT15M
X-PUBLISHED-TTL:PT15M
X-WR-CALNAME:The Elder Scrolls Online
NAME:The Elder Scrolls Online
BEGIN:VTIMEZONE
TZID:Europe/London
TZURL:http://tzurl.org/zoneinfo/Europe/London
X-LIC-LOCATION:Europe/London
BEGIN:DAYLIGHT
TZOFFSETFROM:+0000
TZOFFSETTO:+0100
TZNAME:BST
DTSTART:20190331T020000Z
RRULE:FREQ=YEARLY;BYMONTH=3;BYDAY=-1SU
END:DAYLIGHT
BEGIN:STANDARD
TZOFFSETFROM:+0100
TZOFFSETTO:+0000
TZNAME:GMT
DTSTART:20191027T020000Z
RRULE:FREQ=YEARLY;BYMONTH=10;BYDAY=-1SU
END:STANDARD
END:VTIMEZONE
BEGIN:VEVENT
SUMMARY:[TESO] Обучающий hmAA
DTSTAMP:20181226T062413Z
SEQUENCE:2
UID:4773-1-afb15bc42254ad5fb0481ce5e9c8144d@forum.bandits-clan.ru
ORGANIZER;CN="mrachny":web@bandits-clan.ru
DESCRIPTION:Обучающий ветеранский тр
	иал Aetherian Archive с включением Hard Mod
	e. \nНачало события 20-00 по 
	МСК \nСбор начинается в 19-4
	5. Если вы записались\, 
	но не пришли до 20-00
	\, ваше место може
	т занять любой желающий 
	из чата.  Требования: \n- З
	вание от Bandit и выше\n- 
	Подтвержденный ДПС 30к+ для дд
	\n- Табард гильдии\n- TeamS
	peak\n- Отметка о
	 прохжден
	ии нормал или ве
	теранской версии
	 триала с гильдие
	й Нам потребуются
	: \n- 2 танка (прошу 
	танков заранее обсудить 
	со мной билд в лс на форуме или в иг
	ре @mrachny)\n- 2 хила (ульта Solar Prison)\n-
	 8 дд (максимум 4 
	мдд)\nПриоритет н
	овичкам и желаю
	щим получить о
	тметку о прохож
	дении hmAA с ги
	льдией.  Об
	язательно н
	ажимайте кнопку
	 ПОЙДУ и указывай
	те свою роль в ком
	ментариях и игров
	ой id\, если он от
	личается от н
	ика на форуме. 
	ПРИ СБОРЕ ГРУ
	ППЫ Я ОПИРАЮСЬ 
	НА КОММЕНТАРИИ К
	 СОБЫТИЮ - НЕ Н
	АПИСАЛИ КОММЕН
	ТАРИЙ - НЕ ПОПАЛИ В 
	РЕЙД\nПродолжительност
	ь события - не более 2\,5 
	часов. \nСбор\, перекуры
	\, перекусы и т.д. такж
	е входят в указанны
	е 2\,5 часа\, так 
	что прошу всех пр
	иходить вовремя и подготовленными
	 на все случаи жизни)
DTSTART:20190111T170000Z
ATTENDEE;CN="KotL75rus";CUTYPE=INDIVIDUAL;PARTSTAT=ACCEPTED:
	web@bandits-clan.ru
ATTENDEE;CN="mrachny";CUTYPE=INDIVIDUAL;PARTSTAT=ACCEPTED:we
	b@bandits-clan.ru
ATTENDEE;CN="Necroblaster";CUTYPE=INDIVIDUAL;PARTSTAT=ACCEPT
	ED:web@bandits-clan.ru
ATTENDEE;CN="Ovsianchik";CUTYPE=INDIVIDUAL;PARTSTAT=ACCEPTED
	:web@bandits-clan.ru
ATTENDEE;CN="Nikvilan";CUTYPE=INDIVIDUAL;PARTSTAT=ACCEPTED:w
	eb@bandits-clan.ru
ATTENDEE;CN="Ragga-Max";CUTYPE=INDIVIDUAL;PARTSTAT=ACCEPTED:
	web@bandits-clan.ru
ATTENDEE;CN="blacktriangle";CUTYPE=INDIVIDUAL;PARTSTAT=ACCEP
	TED:web@bandits-clan.ru
ATTENDEE;CN="Canis";CUTYPE=INDIVIDUAL;PARTSTAT=ACCEPTED:web@
	bandits-clan.ru
ATTENDEE;CN="Rendall";CUTYPE=INDIVIDUAL;PARTSTAT=ACCEPTED:we
	b@bandits-clan.ru
ATTENDEE;CN="ELEKTRIC322";CUTYPE=INDIVIDUAL;PARTSTAT=ACCEPTE
	D:web@bandits-clan.ru
ATTENDEE;CN="npstrr";CUTYPE=INDIVIDUAL;PARTSTAT=ACCEPTED:web
	@bandits-clan.ru
ATTENDEE;CN="Neuro-Mancer";CUTYPE=INDIVIDUAL;PARTSTAT=ACCEPT
	ED:web@bandits-clan.ru
ATTENDEE;CN="Winchester";CUTYPE=INDIVIDUAL;PARTSTAT=ACCEPTED
	:web@bandits-clan.ru
ATTENDEE;CN="ShadowBreathe";CUTYPE=INDIVIDUAL;PARTSTAT=ACCEP
	TED:web@bandits-clan.ru
END:VEVENT
END:VCALENDAR
