BEGIN:VCALENDAR
VERSION:2.0
PRODID:-//InvisionCommunity Events 4.7.14//EN
METHOD:PUBLISH
CALSCALE:GREGORIAN
REFRESH-INTERVAL:PT15M
X-PUBLISHED-TTL:PT15M
X-WR-CALNAME:The Elder Scrolls Online
NAME:The Elder Scrolls Online
BEGIN:VTIMEZONE
TZID:Europe/London
TZURL:http://tzurl.org/zoneinfo/Europe/London
X-LIC-LOCATION:Europe/London
BEGIN:DAYLIGHT
TZOFFSETFROM:+0000
TZOFFSETTO:+0100
TZNAME:BST
DTSTART:20180325T020000Z
RRULE:FREQ=YEARLY;BYMONTH=3;BYDAY=-1SU
END:DAYLIGHT
BEGIN:STANDARD
TZOFFSETFROM:+0100
TZOFFSETTO:+0000
TZNAME:GMT
DTSTART:20181028T020000Z
RRULE:FREQ=YEARLY;BYMONTH=10;BYDAY=-1SU
END:STANDARD
END:VTIMEZONE
BEGIN:VEVENT
SUMMARY:[TESO] Фарм рейдик (nCR+3?)
DTSTAMP:20181224T141738Z
SEQUENCE:2
UID:4766-1-afb15bc42254ad5fb0481ce5e9c8144d@forum.bandits-clan.ru
ORGANIZER;CN="Ando":web@bandits-clan.ru
DESCRIPTION:Событие на 1\,5+ ча
	са. Нормал триалы н
	а выбор группы (н
	ет\, на мой выб
	ор  ). Количе
	ство зависи
	т от подготовл
	енности собравшегося 
	рейда.\nТребуются боль
	шие и сильные (300+ CP
	)\, знающие как с
	вапать панель и 
	как группироваться
	\, орлы. Отметки не ст
	авлю\, они должны у Вас
	 быть.\nЭТО НЕ УЧЕБН
	ЫЙ РЕЙД!!! \nУ Вас
	 должны быть 
	отметки о прох
	ождении указанн
	ых триалов\, или 
	ВЫ должны убеди
	ть меня\, что знае
	те чего там про
	исходит!\nПо форм
	ату события\, я 
	не должен рассказыв
	ать Вам тактики\, а про
	сто врываться и дамажить=)\n
	1-2 танка (не больше)\n2 х
	ила (не больше)\n8-9 
	ДД Для данного собы
	тия Вам\, возможно\, ну
	жно иметь следующие DLC/Главы:\nПас
	ть Лорхаджа (Maw of Lorkhaj) - DLC Гил
	ьдия воров\nЗалы фабрикации (Hall of 
	fabrication) - Глава Морровинд\nCloudrest - Гл
	ава Саммерсет\nAsylum Sanctorium - DLC Clock
	work city Большая пр
	осьба: при записи пишем в
	 комментариях свою роль (роли)
	 и User ID (то\, что у вас в иг
	ре после @).\nЗаходи
	м в тимспик\, над
	еваем табард\, 
	чтобы быть крас
	ивым и узнаваем
	ым\, и собираемся 
	в гильд-холе.\nФа
	рмим быстро и ка
	чественно! Для че
	го\, собственно\, и
	дём: За сетами\, 
	конечно=) и другие в
	кусные и не очень с
	еты + возможность 
	выполнить weekly 
	квесты в данны
	х триалах и по
	лучить камни тра
	нсмутации (по 5 
	за каждого пер
	сонажа в кажд
	ом триале)\, м
	естные крафто
	вые мотивы и п
	рочую мишуру. 
	Приятная\, дружес
	кая\, весёлая атмосфе
	ра в комплекте=) Фразочки \"А Вы 
	точно РЛ?\" не чаще 1 раза в 5 минут
DTSTART:20181225T180000Z
ATTENDEE;CN="gaffer";CUTYPE=INDIVIDUAL;PARTSTAT=ACCEPTED:web
	@bandits-clan.ru
ATTENDEE;CN="Ando";CUTYPE=INDIVIDUAL;PARTSTAT=ACCEPTED:web@b
	andits-clan.ru
ATTENDEE;CN="Ingolanto";CUTYPE=INDIVIDUAL;PARTSTAT=ACCEPTED:
	web@bandits-clan.ru
ATTENDEE;CN="Neuro-Mancer";CUTYPE=INDIVIDUAL;PARTSTAT=ACCEPT
	ED:web@bandits-clan.ru
ATTENDEE;CN="Aabsolute";CUTYPE=INDIVIDUAL;PARTSTAT=ACCEPTED:
	web@bandits-clan.ru
ATTENDEE;CN="Ovsianchik";CUTYPE=INDIVIDUAL;PARTSTAT=ACCEPTED
	:web@bandits-clan.ru
ATTENDEE;CN="Z1eDog";CUTYPE=INDIVIDUAL;PARTSTAT=ACCEPTED:web
	@bandits-clan.ru
ATTENDEE;CN="Krolik5280";CUTYPE=INDIVIDUAL;PARTSTAT=ACCEPTED
	:web@bandits-clan.ru
END:VEVENT
END:VCALENDAR
