BEGIN:VCALENDAR
VERSION:2.0
PRODID:-//InvisionCommunity Events 4.7.14//EN
METHOD:PUBLISH
CALSCALE:GREGORIAN
REFRESH-INTERVAL:PT15M
X-PUBLISHED-TTL:PT15M
X-WR-CALNAME:The Elder Scrolls Online
NAME:The Elder Scrolls Online
BEGIN:VTIMEZONE
TZID:Europe/London
TZURL:http://tzurl.org/zoneinfo/Europe/London
X-LIC-LOCATION:Europe/London
BEGIN:DAYLIGHT
TZOFFSETFROM:+0000
TZOFFSETTO:+0100
TZNAME:BST
DTSTART:20180325T020000Z
RRULE:FREQ=YEARLY;BYMONTH=3;BYDAY=-1SU
END:DAYLIGHT
BEGIN:STANDARD
TZOFFSETFROM:+0100
TZOFFSETTO:+0000
TZNAME:GMT
DTSTART:20181028T020000Z
RRULE:FREQ=YEARLY;BYMONTH=10;BYDAY=-1SU
END:STANDARD
END:VTIMEZONE
BEGIN:VEVENT
SUMMARY:[TESO] YoungGuns - Battlegrounds для уровней 10-49
DTSTAMP:20181216T230641Z
SEQUENCE:0
UID:4729-1-afb15bc42254ad5fb0481ce5e9c8144d@forum.bandits-clan.ru
ORGANIZER;CN="Tykot":web@bandits-clan.ru
DESCRIPTION:\nКуда идём?\n\nBattleground
	s - динамичное ПВП для к
	оманд из 4 человек\n\nЧ
	то получим?\n\nОпы
	т игры в ПВП и
	 альянс-поинты
	. На альянс-поин
	ты можно приоб
	рести ценные мот
	ивы\, монстр-сеты
	\, золотые кольц
	а и ожерелья.
	\nПрокачаем вет
	ки штурм и поддерж
	ка с такими важным
	и навыками как вигор\,
	 горн\, пурдж\, мана
	-бомба и прочие.
	\nРаз в день на
	 персонажа тепер
	ь дают кофр с п
	родвинутым содер
	жимым - оружие\, мот
	ивы\, кристаллы трансмутаци
	и.\n\nТребования:\n\nТабард гильд
	ии\nTeam Speak\n\nНам нужны:\n\n
	Приглашаем новых 
	игроков 10-49 уров
	ня познавать вме
	сте ПВП-аспекты 
	игры\, а так же ве
	теранов на твинка
	х\, жаждущих легки
	х альянс-поинтов
	\n\nСостав команды:
	 4 человека. Есл
	и желающих бу
	дет больше - 
	приоритет п
	о времени за
	писи\nПри на
	личии второго
	 опытного РЛа
	 возможно созда
	ние двух команд\
	nЕсли ваш ник в
	 игре отличает
	ся от ника на ф
	оруме\, укаж
	ите в комме
	нтариях сво
	й игровой ник\
	nЧеловек счи
	тается запис
	авшимся на соб
	ытие тогда\, когд
	а он подтверждает
	 своё участие кно
	пкой \"Пойду\" (спр
	ава)\nКоммент
	арии не являю
	тся записью\, о
	ни служат для распределения рол
	ей\, обсуждения сетов и так далее
DTSTART:20181220T203000Z
ATTENDEE;CN="Tykot";CUTYPE=INDIVIDUAL;PARTSTAT=ACCEPTED:web@
	bandits-clan.ru
ATTENDEE;CN="Dolphin";CUTYPE=INDIVIDUAL;PARTSTAT=ACCEPTED:we
	b@bandits-clan.ru
ATTENDEE;CN="TricksteR ";CUTYPE=INDIVIDUAL;PARTSTAT=ACCEPTED
	:web@bandits-clan.ru
END:VEVENT
END:VCALENDAR
