BEGIN:VCALENDAR
VERSION:2.0
PRODID:-//InvisionCommunity Events 4.7.14//EN
METHOD:PUBLISH
CALSCALE:GREGORIAN
REFRESH-INTERVAL:PT15M
X-PUBLISHED-TTL:PT15M
X-WR-CALNAME:The Elder Scrolls Online
NAME:The Elder Scrolls Online
BEGIN:VTIMEZONE
TZID:Europe/London
TZURL:http://tzurl.org/zoneinfo/Europe/London
X-LIC-LOCATION:Europe/London
BEGIN:DAYLIGHT
TZOFFSETFROM:+0000
TZOFFSETTO:+0100
TZNAME:BST
DTSTART:20180325T020000Z
RRULE:FREQ=YEARLY;BYMONTH=3;BYDAY=-1SU
END:DAYLIGHT
BEGIN:STANDARD
TZOFFSETFROM:+0100
TZOFFSETTO:+0000
TZNAME:GMT
DTSTART:20181028T020000Z
RRULE:FREQ=YEARLY;BYMONTH=10;BYDAY=-1SU
END:STANDARD
END:VTIMEZONE
BEGIN:VEVENT
SUMMARY:[TESO] PvP Imperial City
DTSTAMP:20181216T174432Z
SEQUENCE:0
UID:4727-1-afb15bc42254ad5fb0481ce5e9c8144d@forum.bandits-clan.ru
ORGANIZER;CN="Keshanberg":web@bandits-clan.ru
DESCRIPTION:Игроки 160+ за 
	Даггерфолл Ко
	венант\, приходите
	 на вылазку в Импер
	ский Город!\n​Зачем нам эт
	о:\n1. убьем всех на своем
	 пути (PvP)\n2. захваты
	ваем флаги\, получаем алья
	нс поинты - информация о них здесь:http://en.ue
	sp.net/w...Alliance_Points\n3. фармим тел
	ь-вары! - информация о них здесь: http://www.teson
	line...ones-guide-8927\n4. закрываем боссо
	в\nТребования:\nТимспик (DLC Imperial 
	City или ESO+) \nCбор в Военном Гильдхолле (пкм
	 @Keshanberg - visit primary / посетить 
	дом)\nА это вам не
	большая памятка
	\, какие трофеи сто
	ит копить\, а какие 
	можно открыть по разу (для ачивк
	и) и забыть про них:\nMonstrious Tooth — Agility (
	кольца)\nBloody Claw — Agility (ожерелье)\nBone Sh
	ard — Willpower (кольца)\nDark Ether — Willpower (ожерел
	ье)\nMark of the Legion — Endurance (ожерелье) 
DTSTART:20181217T173000Z
ATTENDEE;CN="Keshanberg";CUTYPE=INDIVIDUAL;PARTSTAT=ACCEPTED
	:web@bandits-clan.ru
ATTENDEE;CN="bonart";CUTYPE=INDIVIDUAL;PARTSTAT=ACCEPTED:web
	@bandits-clan.ru
ATTENDEE;CN="Agathus";CUTYPE=INDIVIDUAL;PARTSTAT=ACCEPTED:we
	b@bandits-clan.ru
END:VEVENT
END:VCALENDAR
