BEGIN:VCALENDAR
VERSION:2.0
PRODID:-//InvisionCommunity Events 4.7.14//EN
METHOD:PUBLISH
CALSCALE:GREGORIAN
REFRESH-INTERVAL:PT15M
X-PUBLISHED-TTL:PT15M
X-WR-CALNAME:The Elder Scrolls Online
NAME:The Elder Scrolls Online
BEGIN:VTIMEZONE
TZID:Europe/London
TZURL:http://tzurl.org/zoneinfo/Europe/London
X-LIC-LOCATION:Europe/London
BEGIN:DAYLIGHT
TZOFFSETFROM:+0000
TZOFFSETTO:+0100
TZNAME:BST
DTSTART:20180325T020000Z
RRULE:FREQ=YEARLY;BYMONTH=3;BYDAY=-1SU
END:DAYLIGHT
BEGIN:STANDARD
TZOFFSETFROM:+0100
TZOFFSETTO:+0000
TZNAME:GMT
DTSTART:20181028T020000Z
RRULE:FREQ=YEARLY;BYMONTH=10;BYDAY=-1SU
END:STANDARD
END:VTIMEZONE
BEGIN:VEVENT
SUMMARY:(TESO)Рейд статика \"Critical Mass\"
DTSTAMP:20181216T173619Z
SEQUENCE:0
UID:4725-1-afb15bc42254ad5fb0481ce5e9c8144d@forum.bandits-clan.ru
ORGANIZER;CN="DarkVend":web@bandits-clan.ru
DESCRIPTION:\nВ 14:30 по МСК\n\nСобираемся 
	на рейд статика \"Critical Mas
	s\". Проходим вет
	.Краг. триал.\nОбя
	зательно к выполне
	нию для членов статик
	а:\n1)Сбор в гильдхолле.
	\n2)Табард гильдии.\n3)Под
	готовиться к рейду за
	 10-15мин до его начала.\n
	4)Отметиться в таблице с ротацией статик
	а- https://docs.google....GfWY/edit#gid=0 (Чт
	обы авторизи
	ровааться в табли
	це\,для редактиро
	вания\,напишите 
	на форуме в лс РЛ-у.)\nА
	ктивный список статика можно увидеть ту
	т http://forum.bandits...showtopic=64045 .\nВсем уда
	чи\, жду вас в рейде!\n@DarkVend
DTSTART:20181223T113000Z
ATTENDEE;CN="DarkVend";CUTYPE=INDIVIDUAL;PARTSTAT=ACCEPTED:w
	eb@bandits-clan.ru
END:VEVENT
END:VCALENDAR
