BEGIN:VCALENDAR
VERSION:2.0
PRODID:-//InvisionCommunity Events 4.7.14//EN
METHOD:PUBLISH
CALSCALE:GREGORIAN
REFRESH-INTERVAL:PT15M
X-PUBLISHED-TTL:PT15M
X-WR-CALNAME:The Elder Scrolls Online
NAME:The Elder Scrolls Online
BEGIN:VTIMEZONE
TZID:Europe/London
TZURL:http://tzurl.org/zoneinfo/Europe/London
X-LIC-LOCATION:Europe/London
BEGIN:DAYLIGHT
TZOFFSETFROM:+0000
TZOFFSETTO:+0100
TZNAME:BST
DTSTART:20180325T020000Z
RRULE:FREQ=YEARLY;BYMONTH=3;BYDAY=-1SU
END:DAYLIGHT
BEGIN:STANDARD
TZOFFSETFROM:+0100
TZOFFSETTO:+0000
TZNAME:GMT
DTSTART:20181028T020000Z
RRULE:FREQ=YEARLY;BYMONTH=10;BYDAY=-1SU
END:STANDARD
END:VTIMEZONE
BEGIN:VEVENT
SUMMARY:(TESO)Рейд статика \"Critical Mass\"
DTSTAMP:20181216T173537Z
SEQUENCE:0
UID:4724-1-afb15bc42254ad5fb0481ce5e9c8144d@forum.bandits-clan.ru
ORGANIZER;CN="DarkVend":web@bandits-clan.ru
DESCRIPTION:\nВ 19:00 по МСК\n\nСобираемся 
	на рейд статика \"Critical M
	ass\". Проходим триал
	.\nОбязательно к вып
	олнению для членов ст
	атика:\n1)Сбор в гиль
	дхолле.\n2)Табард гильд
	ии.\n3)Подготовиться к р
	ейду за 10-15мин до 
	его начала.\n4)Отметиться в таб
	лице с ротацией статика- https://docs.google..
	..GfWY/edit#gid=0 (Чтобы ав
	торизироваать
	ся в таблице\,для
	 редактирования\
	,напишите на фор
	уме в лс РЛ-у.)\nАктивный спи
	сок статика можно увидеть тут http://forum.band
	its...showtopic=64045 .\nВсем удачи\, жду вас в рейд
	е!\n@DarkVend	\nВ 19:00 по МСК	\n\nСобираемс
	я на рейд статика \"Critical M
	ass\". Проходим триал.\
	n	Обязательно к выпол
	нению для членов статика
	:\n	1)Сбор в гильдхолле.\
	n	2)Табард гильдии.\n	3)По
	дготовиться к рейду за
	 10-15мин до его начала.\n
		4)Отметиться в таблице с ротацией стати
	ка- https://docs.google....GfWY/edit#gid=0 (Ч
	тобы автори
	зировааться в та
	блице\,для редакт
	ирования\,напишит
	е на форуме в лс РЛ-у.)
	\n	Активный список статика можно увиде
	ть тут http://forum.bandits...showtopic=64045 .\nВс
	ем удачи\, жду вас в рейде!\n@DarkVend
DTSTART:20181222T160000Z
ATTENDEE;CN="DarkVend";CUTYPE=INDIVIDUAL;PARTSTAT=ACCEPTED:w
	eb@bandits-clan.ru
END:VEVENT
END:VCALENDAR
