BEGIN:VCALENDAR
VERSION:2.0
PRODID:-//InvisionCommunity Events 4.7.14//EN
METHOD:PUBLISH
CALSCALE:GREGORIAN
REFRESH-INTERVAL:PT15M
X-PUBLISHED-TTL:PT15M
X-WR-CALNAME:The Elder Scrolls Online
NAME:The Elder Scrolls Online
BEGIN:VTIMEZONE
TZID:Europe/London
TZURL:http://tzurl.org/zoneinfo/Europe/London
X-LIC-LOCATION:Europe/London
BEGIN:DAYLIGHT
TZOFFSETFROM:+0000
TZOFFSETTO:+0100
TZNAME:BST
DTSTART:20180325T020000Z
RRULE:FREQ=YEARLY;BYMONTH=3;BYDAY=-1SU
END:DAYLIGHT
BEGIN:STANDARD
TZOFFSETFROM:+0100
TZOFFSETTO:+0000
TZNAME:GMT
DTSTART:20181028T020000Z
RRULE:FREQ=YEARLY;BYMONTH=10;BYDAY=-1SU
END:STANDARD
END:VTIMEZONE
BEGIN:VEVENT
SUMMARY:[TESO] Скайшарды\, дольмены и подзе
	мелья Сиродила
DTSTAMP:20181214T215639Z
SEQUENCE:0
UID:4715-1-afb15bc42254ad5fb0481ce5e9c8144d@forum.bandits-clan.ru
ORGANIZER;CN="FreeDown":web@bandits-clan.ru
DESCRIPTION:Приглаша
	ются все же
	лающие собр
	ать скайшард
	ы\, закрыть 
	дольмены и
	 зачистить
	 подземелья в Сир
	одиле. Идём на не
	населенную кампа
	нию с чемпионкой 
	(Shor). При набор
	е достаточ
	ного для ос
	ады замка к
	оличества лю
	дей будем такж
	е открывать вор
	ота на вражеские
	 базы\, чтобы соб
	рать \"сложные\
	" скайшарды Си
	родила за ворота
	ми. По возможно
	сти\, возьмите с
	 собой осадки\
	, палатки и к
	амни возвраще
	ния в замок. В
	 подземельях 
	респ боссов оче
	нь долгий\, буд
	ем заходить в п
	одземелье и уб
	ивать боссов\, 
	живых на дан
	ный момент\
	, респа мертвы
	х боссов ждать н
	е будем. Продолжи
	тельность мероприя
	тия 4-6 часов.\n\nСироди
	л большой\, бегать по 
	нему долго. Требования
	:\n\n- уровень персон
	ажа 10+\n\n- альянс п
	ерсонажа Дагге
	рфольский Ковен
	ант\n\n- табард (наки
	дка гильдии\, покупает
	ся в гильдейском магазине)\n\n- тимспик\
	, канал &lt\;World Boss Academy&gt\;
DTSTART:20181216T090000Z
ATTENDEE;CN="FreeDown";CUTYPE=INDIVIDUAL;PARTSTAT=ACCEPTED:w
	eb@bandits-clan.ru
ATTENDEE;CN="BioBalans";CUTYPE=INDIVIDUAL;PARTSTAT=ACCEPTED:
	web@bandits-clan.ru
ATTENDEE;CN="Wandering stranger";CUTYPE=INDIVIDUAL;PARTSTAT=
	ACCEPTED:web@bandits-clan.ru
ATTENDEE;CN="gaffer";CUTYPE=INDIVIDUAL;PARTSTAT=ACCEPTED:web
	@bandits-clan.ru
END:VEVENT
END:VCALENDAR
