BEGIN:VCALENDAR
VERSION:2.0
PRODID:-//InvisionCommunity Events 4.7.14//EN
METHOD:PUBLISH
CALSCALE:GREGORIAN
REFRESH-INTERVAL:PT15M
X-PUBLISHED-TTL:PT15M
X-WR-CALNAME:The Elder Scrolls Online
NAME:The Elder Scrolls Online
BEGIN:VTIMEZONE
TZID:Europe/London
TZURL:http://tzurl.org/zoneinfo/Europe/London
X-LIC-LOCATION:Europe/London
BEGIN:DAYLIGHT
TZOFFSETFROM:+0000
TZOFFSETTO:+0100
TZNAME:BST
DTSTART:20180325T020000Z
RRULE:FREQ=YEARLY;BYMONTH=3;BYDAY=-1SU
END:DAYLIGHT
BEGIN:STANDARD
TZOFFSETFROM:+0100
TZOFFSETTO:+0000
TZNAME:GMT
DTSTART:20181028T020000Z
RRULE:FREQ=YEARLY;BYMONTH=10;BYDAY=-1SU
END:STANDARD
END:VTIMEZONE
BEGIN:VEVENT
SUMMARY:[TESO] Мировые боссы и паблики Ротг
	ара
DTSTAMP:20181211T145501Z
SEQUENCE:0
UID:4703-1-afb15bc42254ad5fb0481ce5e9c8144d@forum.bandits-clan.ru
ORGANIZER;CN="FreeDown":web@bandits-clan.ru
DESCRIPTION:Приглаш
	аются все ж
	елающие закры
	ть мировых боссов 
	и публичные подземелья Рот
	гара:\n\nСтарый Орсиниум (Old Orsini
	um) и Ркиндалефт (Rkind
	aleft) Параллел
	ьно будем в
	ыполнять дейли
	ки на мировых боссов
	. Возможная награда за дейлики - моти
	в 23: Малакат ( Crafting Motif 23: Malac
	ath ) В публичных
	 подземельях 
	убъем всех б
	оссов\, возьмем
	 скайшарды\, вы
	полним группо
	вые задания. Т
	ребования:\n- 
	имеется доступ 
	в локацию (куплено д
	ополнение «Орсиниум» ил
	и подписка ESO+)\n\n- ур
	овень персонажа люб
	ой\n\n- альянс персон
	ажа любой\n\n- т
	абард (накидка гил
	ьдии\, покупается в гильдейс
	ком магазине)\n\n- тимспик\, канал &lt\;World Boss 
	Academy&gt\;
DTSTART:20181224T180000Z
ATTENDEE;CN="FreeDown";CUTYPE=INDIVIDUAL;PARTSTAT=ACCEPTED:w
	eb@bandits-clan.ru
ATTENDEE;CN="Yer";CUTYPE=INDIVIDUAL;PARTSTAT=ACCEPTED:web@ba
	ndits-clan.ru
ATTENDEE;CN="LOMALO";CUTYPE=INDIVIDUAL;PARTSTAT=ACCEPTED:web
	@bandits-clan.ru
END:VEVENT
END:VCALENDAR
