BEGIN:VCALENDAR
VERSION:2.0
PRODID:-//InvisionCommunity Events 4.7.14//EN
METHOD:PUBLISH
CALSCALE:GREGORIAN
REFRESH-INTERVAL:PT15M
X-PUBLISHED-TTL:PT15M
X-WR-CALNAME:The Elder Scrolls Online
NAME:The Elder Scrolls Online
BEGIN:VTIMEZONE
TZID:Europe/London
TZURL:http://tzurl.org/zoneinfo/Europe/London
X-LIC-LOCATION:Europe/London
BEGIN:DAYLIGHT
TZOFFSETFROM:+0000
TZOFFSETTO:+0100
TZNAME:BST
DTSTART:20180325T020000Z
RRULE:FREQ=YEARLY;BYMONTH=3;BYDAY=-1SU
END:DAYLIGHT
BEGIN:STANDARD
TZOFFSETFROM:+0100
TZOFFSETTO:+0000
TZNAME:GMT
DTSTART:20181028T020000Z
RRULE:FREQ=YEARLY;BYMONTH=10;BYDAY=-1SU
END:STANDARD
END:VTIMEZONE
BEGIN:VEVENT
SUMMARY:[TESO] Мировые боссы и паблики Вва
	нденфела
DTSTAMP:20181211T145352Z
SEQUENCE:0
UID:4702-1-afb15bc42254ad5fb0481ce5e9c8144d@forum.bandits-clan.ru
ORGANIZER;CN="FreeDown":web@bandits-clan.ru
DESCRIPTION:Приглаш
	аются все 
	желающие за
	крыть миров
	ых боссов и публичны
	е подземелья в Вванденфеле:\nЗаб
	ытые Пустоши (The Forgotten Wastes) и Нчуле
	фтингт (Nchuleftinght).
	 Параллель
	но будем вы
	полнять дейлики
	 на мировых боссов. 
	Возможная награда за дейлики - моти
	в 30: Мораг Тонг ( Crafting Motif 30: Mora
	g Tong ) В публичных
	 подземельях 
	убъем всех б
	оссов\, возьмем
	 скайшарды\, вы
	полним группо
	вые задания. Т
	ребования:\n-
	 имеется досту
	п в локацию (куплен
	о дополнение «Морров
	инд» или подписка ES
	O+)\n- уровень персон
	ажа любой\n- алья
	нс персонажа лю
	бой\n- табард (нак
	идка гильдии\, покупа
	ется в гильдейском магазине)\n- тимспи
	к\, канал &lt\;World Boss Academy&gt\;
DTSTART:20181217T180000Z
ATTENDEE;CN="FreeDown";CUTYPE=INDIVIDUAL;PARTSTAT=ACCEPTED:w
	eb@bandits-clan.ru
ATTENDEE;CN="npstrr";CUTYPE=INDIVIDUAL;PARTSTAT=ACCEPTED:web
	@bandits-clan.ru
ATTENDEE;CN="TricksteR ";CUTYPE=INDIVIDUAL;PARTSTAT=ACCEPTED
	:web@bandits-clan.ru
ATTENDEE;CN="KNJAZ";CUTYPE=INDIVIDUAL;PARTSTAT=ACCEPTED:web@
	bandits-clan.ru
ATTENDEE;CN="Legrat";CUTYPE=INDIVIDUAL;PARTSTAT=ACCEPTED:web
	@bandits-clan.ru
END:VEVENT
END:VCALENDAR
