BEGIN:VCALENDAR
VERSION:2.0
PRODID:-//InvisionCommunity Events 4.7.14//EN
METHOD:PUBLISH
CALSCALE:GREGORIAN
REFRESH-INTERVAL:PT15M
X-PUBLISHED-TTL:PT15M
X-WR-CALNAME:The Elder Scrolls Online
NAME:The Elder Scrolls Online
BEGIN:VTIMEZONE
TZID:Europe/London
TZURL:http://tzurl.org/zoneinfo/Europe/London
X-LIC-LOCATION:Europe/London
BEGIN:DAYLIGHT
TZOFFSETFROM:+0000
TZOFFSETTO:+0100
TZNAME:BST
DTSTART:20180325T020000Z
RRULE:FREQ=YEARLY;BYMONTH=3;BYDAY=-1SU
END:DAYLIGHT
BEGIN:STANDARD
TZOFFSETFROM:+0100
TZOFFSETTO:+0000
TZNAME:GMT
DTSTART:20181028T020000Z
RRULE:FREQ=YEARLY;BYMONTH=10;BYDAY=-1SU
END:STANDARD
END:VTIMEZONE
BEGIN:VEVENT
SUMMARY:(TESO)Собрание статика \"Critical Mass\"
DTSTAMP:20181211T143301Z
SEQUENCE:0
UID:4701-1-afb15bc42254ad5fb0481ce5e9c8144d@forum.bandits-clan.ru
ORGANIZER;CN="DarkVend":web@bandits-clan.ru
DESCRIPTION:В 18:00 по МСК.\n
	(ВНИМАНИЕ!На
	 собрание мог
	ут присутствов
	ать люди\, кото
	рые желают в
	ступить в стати
	к. Так же на со
	брании буде
	т запрещено под
	нимать шум\, да
	бы не задерживат
	ь всех присутству
	ющих. )\nНа собран
	ии планируется:\n
	1)Подводим итоги ч
	его мы достигли и
	 смотрим\, на что 
	стоит сделать уп
	ор.\n2)Обсуждаем
	 вопросы с распис
	анием\, а именно 
	время проведение
	 рейдов.\n3)Выбор ц
	елей\, очередност
	и закрытия триало
	в\, просмотр того
	\, что нужно стати
	ку.\n4)Обговорить п
	равила для участ
	ников\, во время на
	хождения в рейде.\n5
	)Набор новых игроко
	в\, кто придет на со
	брание.\n6)Обсудим 
	все вопросы\, ко
	торые вас вол
	нуют.\nЖелатель
	но\, чтобы все чл
	ены статика прис
	утствовали на со
	брании\, т.к. оно 
	будет касаться
	 ВСЕХ.\nНакопилось очень мн
	ого вопросов\, пора их все решить.\n            
	                                                                @DarkVend
DTSTART:20181216T150000Z
ATTENDEE;CN="DarkVend";CUTYPE=INDIVIDUAL;PARTSTAT=ACCEPTED:w
	eb@bandits-clan.ru
ATTENDEE;CN="Burguk";CUTYPE=INDIVIDUAL;PARTSTAT=ACCEPTED:web
	@bandits-clan.ru
END:VEVENT
END:VCALENDAR
