BEGIN:VCALENDAR
VERSION:2.0
PRODID:-//InvisionCommunity Events 4.7.14//EN
METHOD:PUBLISH
CALSCALE:GREGORIAN
REFRESH-INTERVAL:PT15M
X-PUBLISHED-TTL:PT15M
X-WR-CALNAME:The Elder Scrolls Online
NAME:The Elder Scrolls Online
BEGIN:VTIMEZONE
TZID:Europe/London
TZURL:http://tzurl.org/zoneinfo/Europe/London
X-LIC-LOCATION:Europe/London
BEGIN:DAYLIGHT
TZOFFSETFROM:+0000
TZOFFSETTO:+0100
TZNAME:BST
DTSTART:20180325T020000Z
RRULE:FREQ=YEARLY;BYMONTH=3;BYDAY=-1SU
END:DAYLIGHT
BEGIN:STANDARD
TZOFFSETFROM:+0100
TZOFFSETTO:+0000
TZNAME:GMT
DTSTART:20181028T020000Z
RRULE:FREQ=YEARLY;BYMONTH=10;BYDAY=-1SU
END:STANDARD
END:VTIMEZONE
BEGIN:VEVENT
SUMMARY:(TESO) Перья в короне Неустраш
	имых (Болгрул)
DTSTAMP:20181210T220426Z
SEQUENCE:2
UID:4698-1-afb15bc42254ad5fb0481ce5e9c8144d@forum.bandits-clan.ru
ORGANIZER;CN="Aquifolius":web@bandits-clan.ru
DESCRIPTION:Предлагаю
	 поделать вм
	есте задания
	 Болгрула на
	 вылазки\, к
	оторые до
	ступны геро
	ям буквально
	 с момента всту
	пления в гильдию
	 Неустрашимых. Че
	м больше нас буде
	т\, тем лучше! 
	Почему? Потом
	у что в отлич
	ие от осталь
	ных квестов Не
	устрашимых\, этим
	и квестами можно 
	делиться в группе\,
	 а всего возможно 15 
	разных квестов (тр
	и альянса\, в каждо
	м по 5 квестов)
	. Соответстве
	нно\, тем выше шан
	с на максимальн
	ое количество квесто
	в. Итак:\n\n1. Прокач
	аем гильдию Неустраши
	мых\n\n2. Соберём ска
	йшарды в вылазках\n\
	n3. Кофры с наградами н
	а продажу Требования:\n\n-
	 любой альянс\n\n- гер
	ои 10+ уровня\, т.е. вс
	тупившие в гильдию 
	Неустрашимых\n\n- табард\, тим
	спик (будем в канале \"Мировые боссы\")
DTSTART:20181212T170000Z
ATTENDEE;CN="Aquifolius";CUTYPE=INDIVIDUAL;PARTSTAT=ACCEPTED
	:web@bandits-clan.ru
ATTENDEE;CN="mosheg";CUTYPE=INDIVIDUAL;PARTSTAT=ACCEPTED:web
	@bandits-clan.ru
ATTENDEE;CN="Ovsianchik";CUTYPE=INDIVIDUAL;PARTSTAT=ACCEPTED
	:web@bandits-clan.ru
ATTENDEE;CN="Canis";CUTYPE=INDIVIDUAL;PARTSTAT=ACCEPTED:web@
	bandits-clan.ru
ATTENDEE;CN="Bukah";CUTYPE=INDIVIDUAL;PARTSTAT=ACCEPTED:web@
	bandits-clan.ru
ATTENDEE;CN="BJ13";CUTYPE=INDIVIDUAL;PARTSTAT=ACCEPTED:web@b
	andits-clan.ru
ATTENDEE;CN="Solomon1916";CUTYPE=INDIVIDUAL;PARTSTAT=ACCEPTE
	D:web@bandits-clan.ru
ATTENDEE;CN="Krolik5280";CUTYPE=INDIVIDUAL;PARTSTAT=ACCEPTED
	:web@bandits-clan.ru
ATTENDEE;CN="Liprikonchik";CUTYPE=INDIVIDUAL;PARTSTAT=ACCEPT
	ED:web@bandits-clan.ru
ATTENDEE;CN="Nikvilan";CUTYPE=INDIVIDUAL;PARTSTAT=ACCEPTED:w
	eb@bandits-clan.ru
END:VEVENT
END:VCALENDAR
