BEGIN:VCALENDAR
VERSION:2.0
PRODID:-//InvisionCommunity Events 4.7.14//EN
METHOD:PUBLISH
CALSCALE:GREGORIAN
REFRESH-INTERVAL:PT15M
X-PUBLISHED-TTL:PT15M
X-WR-CALNAME:The Elder Scrolls Online
NAME:The Elder Scrolls Online
BEGIN:VTIMEZONE
TZID:Europe/London
TZURL:http://tzurl.org/zoneinfo/Europe/London
X-LIC-LOCATION:Europe/London
BEGIN:DAYLIGHT
TZOFFSETFROM:+0000
TZOFFSETTO:+0100
TZNAME:BST
DTSTART:20180325T020000Z
RRULE:FREQ=YEARLY;BYMONTH=3;BYDAY=-1SU
END:DAYLIGHT
BEGIN:STANDARD
TZOFFSETFROM:+0100
TZOFFSETTO:+0000
TZNAME:GMT
DTSTART:20181028T020000Z
RRULE:FREQ=YEARLY;BYMONTH=10;BYDAY=-1SU
END:STANDARD
END:VTIMEZONE
BEGIN:VEVENT
SUMMARY:[TESO] Обучающий триал vAA
DTSTAMP:20181210T082655Z
SEQUENCE:2
UID:4688-1-afb15bc42254ad5fb0481ce5e9c8144d@forum.bandits-clan.ru
ORGANIZER;CN="Ando":web@bandits-clan.ru
DESCRIPTION:Событие на ~1 час. Veteran mode Aetherian 
	Archive.\n\nТребуются большие и
	 сильные (300+ CP). С
	 аттестацией и с отме
	тками о прохождении нормал 
	версии.\n\n1 танк\n\n2 хила\n
	\n9 ДД (не больше
	 4 милишнико
	в!) При уда
	чном прохо
	ждении буду
	т выставлен
	ы отметки. Бо
	льшая просьба: при зап
	иси пишем в комментариях с
	вою роль (роли) и User ID (то\, ч
	то у вас в игре после @
	).\n\nЗаходим в тим
	спик\, надеваем
	 табард\, чтобы бы
	ть красивым и уз
	наваемым и соби
	раемся в гильд-х
	оле.\n\nФармим быстро и 
	качественно! Для чего\, собственно\,
	 идём: Healing Mage (он же Mending)\nVicious Serpent (VO)\nInfall
	ible Aether\nЗолотая б
	ижутерия при
	лагается! и другие 
	вкусные и не очень 
	сеты + возможность в
	ыполнить weekly кве
	сты в данном 
	триале и получить 
	5 камней трансмутации и местн
	ые крафтовые мотивы (Ra Gada и 
	Celestial). Приятная\, дружеская\, вес
	ёлая атмосфера в комплекте=)
DTSTART:20181214T180000Z
ATTENDEE;CN="Ando";CUTYPE=INDIVIDUAL;PARTSTAT=ACCEPTED:web@b
	andits-clan.ru
ATTENDEE;CN="charlie_maguire";CUTYPE=INDIVIDUAL;PARTSTAT=ACC
	EPTED:web@bandits-clan.ru
ATTENDEE;CN="Shaber";CUTYPE=INDIVIDUAL;PARTSTAT=ACCEPTED:web
	@bandits-clan.ru
ATTENDEE;CN="Krolik5280";CUTYPE=INDIVIDUAL;PARTSTAT=ACCEPTED
	:web@bandits-clan.ru
ATTENDEE;CN="Kotolypovka";CUTYPE=INDIVIDUAL;PARTSTAT=ACCEPTE
	D:web@bandits-clan.ru
ATTENDEE;CN="Oddiseeone";CUTYPE=INDIVIDUAL;PARTSTAT=ACCEPTED
	:web@bandits-clan.ru
ATTENDEE;CN="Canis";CUTYPE=INDIVIDUAL;PARTSTAT=ACCEPTED:web@
	bandits-clan.ru
ATTENDEE;CN="Aleksandr(Шилов)";CUTYPE=INDIVIDUAL;PARTST
	AT=ACCEPTED:web@bandits-clan.ru
ATTENDEE;CN="npstrr";CUTYPE=INDIVIDUAL;PARTSTAT=ACCEPTED:web
	@bandits-clan.ru
END:VEVENT
END:VCALENDAR
