BEGIN:VCALENDAR
VERSION:2.0
PRODID:-//InvisionCommunity Events 4.7.14//EN
METHOD:PUBLISH
CALSCALE:GREGORIAN
REFRESH-INTERVAL:PT15M
X-PUBLISHED-TTL:PT15M
X-WR-CALNAME:The Elder Scrolls Online
NAME:The Elder Scrolls Online
BEGIN:VTIMEZONE
TZID:Europe/London
TZURL:http://tzurl.org/zoneinfo/Europe/London
X-LIC-LOCATION:Europe/London
BEGIN:DAYLIGHT
TZOFFSETFROM:+0000
TZOFFSETTO:+0100
TZNAME:BST
DTSTART:20180325T020000Z
RRULE:FREQ=YEARLY;BYMONTH=3;BYDAY=-1SU
END:DAYLIGHT
BEGIN:STANDARD
TZOFFSETFROM:+0100
TZOFFSETTO:+0000
TZNAME:GMT
DTSTART:20181028T020000Z
RRULE:FREQ=YEARLY;BYMONTH=10;BYDAY=-1SU
END:STANDARD
END:VTIMEZONE
BEGIN:VEVENT
SUMMARY:[TESO] Фарм рейдик (на выбор)
DTSTAMP:20181210T081830Z
SEQUENCE:0
UID:4686-1-afb15bc42254ad5fb0481ce5e9c8144d@forum.bandits-clan.ru
ORGANIZER;CN="Ando":web@bandits-clan.ru
DESCRIPTION:Событие на 1\,5+ ча
	са. Нормал триалы на
	 выбор группы (нет
	\, на мой выбор 
	  ). Количество
	 зависит от п
	одготовленности со
	бравшегося рейда.\n\nТр
	ебуются большие и сильны
	е (160+ CP). Отметки не ста
	влю\, они должны у Вас б
	ыть.\nЭТО НЕ УЧЕБНЫЙ 
	РЕЙД!!! \n\nУ Вас д
	олжны быть о
	тметки о прохож
	дении указанных
	 триалов\, или ВЫ д
	олжны убедить ме
	ня\, что знаете чего
	 там происходит!\
	n\nПо формату собы
	тия\, я не долж
	ен рассказывать Вам 
	тактики\, а просто врыватьс
	я и дамажить=)\n\n1-2 танка (не бо
	льше)\n\n2 хила (не больше)
	\n\n8-9 ДД Для данного с
	обытия Вам\, возможн
	о\, нужно иметь следующие DLC/Главы:
	\n\nПасть Лорхаджа (Maw of Lorkhaj)
	 - DLC Гильдия воров\n\nЗалы фабрикации
	 (Hall of fabrication) - Глава Морровинд\n\nCl
	oudrest - Глава Саммерсет\n\nAsylum Sanctorium - DLC 
	Clockwork city Большая п
	росьба: при записи пишем 
	в комментариях свою роль (рол
	и) и User ID (то\, что у вас в иг
	ре после @).\n\nЗаход
	им в тимспик\, на
	деваем табард\,
	 чтобы быть красив
	ым и узнаваемым\,
	 и собираемся в ги
	льд-холе.\n\nФарми
	м быстро и качест
	венно! Для чего\,
	 собственно\, идё
	м: За сетами\, ко
	нечно=) и другие вку
	сные и не очень сет
	ы + возможность вып
	олнить weekly квесты
	 в данных триа
	лах и получить
	 камни трансмутац
	ии (по 5 за каждо
	го персонажа в
	 каждом триале)
	\, местные краф
	товые мотивы и
	 прочую мишуру.
	 Приятная\, друже
	ская\, весёлая атмос
	фера в комплекте=) Фразочки \
	"А Вы точно РЛ?\" не чаще 1 раза в 5 минут
DTSTART:20181211T180000Z
ATTENDEE;CN="Neuro-Mancer";CUTYPE=INDIVIDUAL;PARTSTAT=ACCEPT
	ED:web@bandits-clan.ru
ATTENDEE;CN="Ando";CUTYPE=INDIVIDUAL;PARTSTAT=ACCEPTED:web@b
	andits-clan.ru
ATTENDEE;CN="Ovsianchik";CUTYPE=INDIVIDUAL;PARTSTAT=ACCEPTED
	:web@bandits-clan.ru
ATTENDEE;CN="MinaevNaKone";CUTYPE=INDIVIDUAL;PARTSTAT=ACCEPT
	ED:web@bandits-clan.ru
ATTENDEE;CN="Ялика";CUTYPE=INDIVIDUAL;PARTSTAT=ACCEPTED
	:web@bandits-clan.ru
ATTENDEE;CN="npstrr";CUTYPE=INDIVIDUAL;PARTSTAT=ACCEPTED:web
	@bandits-clan.ru
ATTENDEE;CN="Canis";CUTYPE=INDIVIDUAL;PARTSTAT=ACCEPTED:web@
	bandits-clan.ru
ATTENDEE;CN="Tiwildorm";CUTYPE=INDIVIDUAL;PARTSTAT=ACCEPTED:
	web@bandits-clan.ru
END:VEVENT
END:VCALENDAR
