BEGIN:VCALENDAR
VERSION:2.0
PRODID:-//InvisionCommunity Events 4.7.14//EN
METHOD:PUBLISH
CALSCALE:GREGORIAN
REFRESH-INTERVAL:PT15M
X-PUBLISHED-TTL:PT15M
X-WR-CALNAME:The Elder Scrolls Online
NAME:The Elder Scrolls Online
BEGIN:VTIMEZONE
TZID:Europe/London
TZURL:http://tzurl.org/zoneinfo/Europe/London
X-LIC-LOCATION:Europe/London
BEGIN:DAYLIGHT
TZOFFSETFROM:+0000
TZOFFSETTO:+0100
TZNAME:BST
DTSTART:20180325T020000Z
RRULE:FREQ=YEARLY;BYMONTH=3;BYDAY=-1SU
END:DAYLIGHT
BEGIN:STANDARD
TZOFFSETFROM:+0100
TZOFFSETTO:+0000
TZNAME:GMT
DTSTART:20181028T020000Z
RRULE:FREQ=YEARLY;BYMONTH=10;BYDAY=-1SU
END:STANDARD
END:VTIMEZONE
BEGIN:VEVENT
SUMMARY:[TESO] PvP Imperial City
DTSTAMP:20181209T114251Z
SEQUENCE:0
UID:4674-1-afb15bc42254ad5fb0481ce5e9c8144d@forum.bandits-clan.ru
ORGANIZER;CN="Keshanberg":web@bandits-clan.ru
DESCRIPTION: \n\nИгроки 160+ 
	за Даггерфолл
	 Ковенант\, приходи
	те на вылазку в Имп
	ерский Город!\n​Зачем нам 
	это:\n1. убьем всех на сво
	ем пути (PvP)\n2. захв
	атываем флаги\, получае
	м альянс поинты - информация о них здесь:h
	ttp://en.uesp.net/w...Alliance_Points\n3. фармим 
	тель-вары! - информация о них здесь: http://www
	.tesonline...ones-guide-8927\n4. закрываем
	 боссов\nТребования:\nТимспик (DLC Imp
	erial City или ESO+) \nCбор в Военном Гильдхолл
	е (пкм @Keshanberg - visit primary / посе
	тить дом)\nА это в
	ам небольшая па
	мятка\, какие тро
	феи стоит копить\
	, а какие можно открыть по р
	азу (для ачивки) и забыть про них:\nMonst
	rious Tooth — Agility (кольца)\nBloody Claw — Agility (о
	жерелье)\nBone Shard — Willpower (кольца)\nDark Et
	her — Willpower (ожерелье)\nMark of the Legion — Enduranc
	e (ожерелье) 
DTSTART:20181210T173000Z
ATTENDEE;CN="Keshanberg";CUTYPE=INDIVIDUAL;PARTSTAT=ACCEPTED
	:web@bandits-clan.ru
ATTENDEE;CN="Dolphin";CUTYPE=INDIVIDUAL;PARTSTAT=ACCEPTED:we
	b@bandits-clan.ru
ATTENDEE;CN="charlie_maguire";CUTYPE=INDIVIDUAL;PARTSTAT=ACC
	EPTED:web@bandits-clan.ru
ATTENDEE;CN="Психо";CUTYPE=INDIVIDUAL;PARTSTAT=ACCEPTED
	:web@bandits-clan.ru
END:VEVENT
END:VCALENDAR
