BEGIN:VCALENDAR
VERSION:2.0
PRODID:-//InvisionCommunity Events 4.7.14//EN
METHOD:PUBLISH
CALSCALE:GREGORIAN
REFRESH-INTERVAL:PT15M
X-PUBLISHED-TTL:PT15M
X-WR-CALNAME:The Elder Scrolls Online
NAME:The Elder Scrolls Online
BEGIN:VTIMEZONE
TZID:Europe/London
TZURL:http://tzurl.org/zoneinfo/Europe/London
X-LIC-LOCATION:Europe/London
BEGIN:DAYLIGHT
TZOFFSETFROM:+0000
TZOFFSETTO:+0100
TZNAME:BST
DTSTART:20180325T020000Z
RRULE:FREQ=YEARLY;BYMONTH=3;BYDAY=-1SU
END:DAYLIGHT
BEGIN:STANDARD
TZOFFSETFROM:+0100
TZOFFSETTO:+0000
TZNAME:GMT
DTSTART:20181028T020000Z
RRULE:FREQ=YEARLY;BYMONTH=10;BYDAY=-1SU
END:STANDARD
END:VTIMEZONE
BEGIN:VEVENT
SUMMARY:(TESO) ПРАЗДНИЧНАЯ ФОТОСЕССИЯ КЛАН
	А
DTSTAMP:20181209T101735Z
SEQUENCE:0
UID:4673-1-afb15bc42254ad5fb0481ce5e9c8144d@forum.bandits-clan.ru
ORGANIZER;CN="Bandit":web@bandits-clan.ru
DESCRIPTION:С 13 00 по Мск 
	  Делаем пр
	аздничные с
	криншоты кла
	на - в табарда
	х - традицио
	нная нового
	дняя фотосе
	ссия!   В этом
	 году мы реши
	ли разбить ф
	отосессию на не
	сколько пулов\, а
	 потом обьедин
	ить изображения
	\, так как в про
	шлом году\, за
	явившись кланом в 
	Гленумбру мы обруш
	или сервера :(   ПЕРВЫЙ 
	ПУЛ в 13 00 по Мск   ВТОРОЙ П
	УЛ в 15 00 по Мск   ТРЕТИЙ ПУ
	Л в 17 00 по Мск   ЧЕТВЕ
	РТЫЙ ПУЛ в 19 00 по М
	ск   Таким об
	разом\, вы при
	дете в удобно
	е время и не
	 обрушите се
	рвер!   ОБЯЗАТЕ
	ЛЬНО! Тимспик (
	будет создан с
	пециальный кана
	л)\, табарды\, х
	орошее настро
	ение! Просьба 
	не опаздывать к 
	своему времени.\n\nПриглашают
	ся все соклановцы гильдий Daggerfall Bandits и Vang
	uard Bandits.
DTSTART:20181230T140000Z
ATTENDEE;CN="Bandit";CUTYPE=INDIVIDUAL;PARTSTAT=ACCEPTED:web
	@bandits-clan.ru
ATTENDEE;CN="@Sky049";CUTYPE=INDIVIDUAL;PARTSTAT=ACCEPTED:we
	b@bandits-clan.ru
ATTENDEE;CN="Winchester";CUTYPE=INDIVIDUAL;PARTSTAT=ACCEPTED
	:web@bandits-clan.ru
ATTENDEE;CN="Zym";CUTYPE=INDIVIDUAL;PARTSTAT=ACCEPTED:web@ba
	ndits-clan.ru
ATTENDEE;CN="JolyFit";CUTYPE=INDIVIDUAL;PARTSTAT=ACCEPTED:we
	b@bandits-clan.ru
ATTENDEE;CN="LimonDash";CUTYPE=INDIVIDUAL;PARTSTAT=ACCEPTED:
	web@bandits-clan.ru
ATTENDEE;CN="Zbignev";CUTYPE=INDIVIDUAL;PARTSTAT=ACCEPTED:we
	b@bandits-clan.ru
ATTENDEE;CN="Babylon";CUTYPE=INDIVIDUAL;PARTSTAT=ACCEPTED:we
	b@bandits-clan.ru
END:VEVENT
END:VCALENDAR
