BEGIN:VCALENDAR
VERSION:2.0
PRODID:-//InvisionCommunity Events 4.7.14//EN
METHOD:PUBLISH
CALSCALE:GREGORIAN
REFRESH-INTERVAL:PT15M
X-PUBLISHED-TTL:PT15M
X-WR-CALNAME:The Elder Scrolls Online
NAME:The Elder Scrolls Online
BEGIN:VTIMEZONE
TZID:Europe/London
TZURL:http://tzurl.org/zoneinfo/Europe/London
X-LIC-LOCATION:Europe/London
BEGIN:DAYLIGHT
TZOFFSETFROM:+0000
TZOFFSETTO:+0100
TZNAME:BST
DTSTART:20180325T020000Z
RRULE:FREQ=YEARLY;BYMONTH=3;BYDAY=-1SU
END:DAYLIGHT
BEGIN:STANDARD
TZOFFSETFROM:+0100
TZOFFSETTO:+0000
TZNAME:GMT
DTSTART:20181028T020000Z
RRULE:FREQ=YEARLY;BYMONTH=10;BYDAY=-1SU
END:STANDARD
END:VTIMEZONE
BEGIN:VEVENT
SUMMARY:[TESO] nHoF farm
DTSTAMP:20181207T044410Z
SEQUENCE:0
UID:4658-1-afb15bc42254ad5fb0481ce5e9c8144d@forum.bandits-clan.ru
ORGANIZER;CN="Hoft":web@bandits-clan.ru
DESCRIPTION:Выбиваем Вар
	 Машину\, Арх
	итектора. По
	 желанию помог
	аем рл-у собрать 
	шестеренки. Требова
	ние: Звание от Бандит. TS\, табард ги
	льдии. Аддоны:\n- GroupLootNotifier http://www.esoui.com...otN
	otifier.html. Для всех кто с
	обирает сет\, особ
	енно в триалах. Оч
	ень \"легкий\" ад
	дон\, минимал
	ьная нагрузк
	а на память и 
	ресурсы. Край
	не информативен
	. Показывает ком
	у что упало (сра
	зу с трейтами
	)\, все кликаб
	ельное. Вкл
	ючайте в н
	астройках 
	последний 
	автофильтр и и
	з чата пропадет флуд состо
	ящий из говнотрейтового дропа.\n- Bandits User I
	nterface http://forum.bandits...showtopic=58009. Наш 
	гильдейски
	й аддон. По
	 своим воз
	можностям 
	и низкой 
	нагрузке 
	на вычисл
	ительные 
	ресурсы на
	 сегодняшн
	ий день пр
	евосходит 
	прочие аддо
	ны интерфе
	йса. Хилам
	 иметь обя
	зательно п
	отому что 
	они получа
	ют своеврем
	енные оповещ
	ения о горне 
	или просадке
	 группы/танка по
	 ресурсам. Дает 
	крайне важные о
	повещения в три
	алах.\n- Для т
	анка: Вклю
	чить в раз
	деле наст
	роек цели Бан
	дитского инт
	ерфейса таунт тр
	екер. Чтобы сэкон
	омить время:\n- Пр
	ошу приходить за 15 
	минут до начала
	 события сразу в ка
	нал Триалы в ТС.
	\n- Правильно в
	ыставлять роли.
	\n- Заблаговреме
	нно скрафтить
	/попросить еду
	/банки.\n- Про
	сматривае
	м лут и дог
	овариваемс
	я о передаче 
	после убийства по
	следнего босса. Жела
	тельно в личку а не голосом в ТС.
	\n- Носите с собой Grand Repair
	 Kit (можно получит
	ь за крафтовые 
	дейлики\, приобретае
	тся у вендоров\, а л
	учше в гильд стор
	ах)\n- В ТС не флу
	дим. Только ко
	нструктивная ин
	формация («горн»\,
	 «внизу/ввурху»\, 
	«не вставай/встав
	ай»\, пр.). Обсужд
	аем то что вас
	 волнует толь
	ко во время п
	ерерывов. Не р
	ассказываем 
	как вам обидн
	о что упали/з
	атупили/лагну
	ло\, не оправ
	дываемся если Р
	Л отметил лично 
	вашу ошибку. Да
	вайте экономить время.
	\n- После входа в холл данжа отклю
	чите тени\, Subsampling quality на
	 нормал\, миниму
	м частиц. Ни в кое
	м случае не заним
	айтесь этим во время рейда.\n- 
	На время рейда отключите Master Merchant\, Harvest Ma
	p\, RuESO.
DTSTART:20181212T180000Z
ATTENDEE;CN="Hoft";CUTYPE=INDIVIDUAL;PARTSTAT=ACCEPTED:web@b
	andits-clan.ru
ATTENDEE;CN="Ovsianchik";CUTYPE=INDIVIDUAL;PARTSTAT=ACCEPTED
	:web@bandits-clan.ru
ATTENDEE;CN="Baltazar";CUTYPE=INDIVIDUAL;PARTSTAT=ACCEPTED:w
	eb@bandits-clan.ru
ATTENDEE;CN="bonart";CUTYPE=INDIVIDUAL;PARTSTAT=ACCEPTED:web
	@bandits-clan.ru
END:VEVENT
END:VCALENDAR
