BEGIN:VCALENDAR
VERSION:2.0
PRODID:-//InvisionCommunity Events 4.7.14//EN
METHOD:PUBLISH
CALSCALE:GREGORIAN
REFRESH-INTERVAL:PT15M
X-PUBLISHED-TTL:PT15M
X-WR-CALNAME:The Elder Scrolls Online
NAME:The Elder Scrolls Online
BEGIN:VTIMEZONE
TZID:Europe/London
TZURL:http://tzurl.org/zoneinfo/Europe/London
X-LIC-LOCATION:Europe/London
BEGIN:DAYLIGHT
TZOFFSETFROM:+0000
TZOFFSETTO:+0100
TZNAME:BST
DTSTART:20180325T020000Z
RRULE:FREQ=YEARLY;BYMONTH=3;BYDAY=-1SU
END:DAYLIGHT
BEGIN:STANDARD
TZOFFSETFROM:+0100
TZOFFSETTO:+0000
TZNAME:GMT
DTSTART:20181028T020000Z
RRULE:FREQ=YEARLY;BYMONTH=10;BYDAY=-1SU
END:STANDARD
END:VTIMEZONE
BEGIN:VEVENT
SUMMARY:[TESO] Бойцовский Клуб
DTSTAMP:20181203T162601Z
SEQUENCE:0
UID:4647-1-afb15bc42254ad5fb0481ce5e9c8144d@forum.bandits-clan.ru
ORGANIZER;CN="Tykot":web@bandits-clan.ru
DESCRIPTION:\nДобро пожалов
	ать в Бойцовский
	 клуб!\n\nБойцовс
	кий клуб - дуэльн
	ый клуб со свои
	ми правилами и р
	ейтингом\, где в
	аш ранг в гиль
	дии ничего не
	 значит.\nПр
	инимать участие в Бо
	йцовском клубе могут только игроки г
	ильдий Daggerfall Bandits и Vanguard Bandit
	s\, подробнее с 
	правилами клуба
	 можно ознакомит
	ься ниже.\n\nПрав
	ила Бойцовского
	 клуба\n\nПерво
	е правило клуб
	а: не упоминать 
	вне гильдии о 
	Бойцовском клу
	бе.\nВторое пр
	авило клуба: н
	е упоминать ни
	где вне гильдии 
	о Бойцовском клуб
	е.\nТретье правило 
	клуба: боец утонул
	\, сгорел\, умер — б
	ой окончен.\nЧетве
	ртое: в бою участву
	ют лишь двое.\nПят
	ое: бои идут один з
	а другим.\nШест
	ое: все надеваю
	т табарды.\nСедьм
	ое: бой продолжает
	ся столько\, скол
	ько нужно.\nВосьм
	ое и последнее: то
	т\, кто впервые приш
	ёл в клуб — примет
	 бой.\n\nТребовани
	я к персонажам
	\n\nДля участия 
	в Бойцовском
	 клубе нет т
	ребований к
	 персонажу
	\, кроме за
	прета возм
	ожности см
	енить персо
	нажа после 
	определения 
	дуэльных пар.\nМо
	жно использовать л
	юбые наборы предмето
	в\, яды\, зелья\, за
	чарования.\n\n
	Регламент с
	обытий\n\nЖ
	елающие уч
	аствовать в
	 Бойцовском к
	лубе записыва
	ются в календа
	ре либо в чат
	е перед соб
	ытием\, пе
	ред нача
	лом событ
	ия среди 
	записав
	шихся сл
	учайным 
	образом о
	пределяют
	ся дуэлян
	ты (количес
	тво рейтин
	говых дуэле
	й зависит от 
	количества за
	писавшихся). Д
	алее проводят
	ся дуэли по о
	череди. Игро
	ки\, свободны
	е от рейтинг
	овых боёв м
	огут проводит
	ь не рейтингов
	ые бои. Бой дл
	ится неогран
	иченное время\
	, если это не
	 оговорено
	 заранее п
	еред начал
	ом сессии.
	 По резул
	ьтатам сес
	сии записыв
	аются резул
	ьтаты и пров
	одится расче
	т рейтинга\,
	 который в 
	дальнейшем
	 заносится в
	 данные аккау
	нта участника к
	луба. Рейтинг бу
	дет влиять на по
	дбор пары для 
	дуэлей\, а так
	 же на возмо
	жность участия в дуэльных т
	урнирах гильдии (выбор турнирной лиги).
DTSTART:20181209T170000Z
ATTENDEE;CN="Tykot";CUTYPE=INDIVIDUAL;PARTSTAT=ACCEPTED:web@
	bandits-clan.ru
ATTENDEE;CN="Dolphin";CUTYPE=INDIVIDUAL;PARTSTAT=ACCEPTED:we
	b@bandits-clan.ru
ATTENDEE;CN="Ando";CUTYPE=INDIVIDUAL;PARTSTAT=ACCEPTED:web@b
	andits-clan.ru
ATTENDEE;CN="Ovsianchik";CUTYPE=INDIVIDUAL;PARTSTAT=ACCEPTED
	:web@bandits-clan.ru
ATTENDEE;CN="OverDream";CUTYPE=INDIVIDUAL;PARTSTAT=ACCEPTED:
	web@bandits-clan.ru
END:VEVENT
END:VCALENDAR
