BEGIN:VCALENDAR
VERSION:2.0
PRODID:-//InvisionCommunity Events 4.7.14//EN
METHOD:PUBLISH
CALSCALE:GREGORIAN
REFRESH-INTERVAL:PT15M
X-PUBLISHED-TTL:PT15M
X-WR-CALNAME:The Elder Scrolls Online
NAME:The Elder Scrolls Online
BEGIN:VTIMEZONE
TZID:Europe/London
TZURL:http://tzurl.org/zoneinfo/Europe/London
X-LIC-LOCATION:Europe/London
BEGIN:DAYLIGHT
TZOFFSETFROM:+0000
TZOFFSETTO:+0100
TZNAME:BST
DTSTART:20180325T020000Z
RRULE:FREQ=YEARLY;BYMONTH=3;BYDAY=-1SU
END:DAYLIGHT
BEGIN:STANDARD
TZOFFSETFROM:+0100
TZOFFSETTO:+0000
TZNAME:GMT
DTSTART:20181028T020000Z
RRULE:FREQ=YEARLY;BYMONTH=10;BYDAY=-1SU
END:STANDARD
END:VTIMEZONE
BEGIN:VEVENT
SUMMARY:[TESO] Фарм рейдик (на выбор)
DTSTAMP:20181203T083320Z
SEQUENCE:2
UID:4642-1-afb15bc42254ad5fb0481ce5e9c8144d@forum.bandits-clan.ru
ORGANIZER;CN="Ando":web@bandits-clan.ru
DESCRIPTION:Событие на 1\,5+ ча
	са. Нормал триалы н
	а выбор группы (н
	ет\, на мой выб
	ор  ). Количе
	ство зависи
	т от подготовл
	енности собравшегося
	 рейда.\nТребуются больши
	е и сильные (160+ CP). Отмет
	ки не ставлю\, они долж
	ны у Вас быть.\nЭТО Н
	Е УЧЕБНЫЙ РЕЙД!!
	! \nУ Вас должны 
	быть отметки 
	о прохождении у
	казанных триало
	в\, или ВЫ должны 
	убедить меня\, что
	 знаете чего та
	м происходит!\nП
	о формату событ
	ия\, я не должен
	 рассказывать Вам та
	ктики\, а просто врыватьс
	я и дамажить=)\n1-2 танка (не
	 больше)\n2 хила (не боль
	ше)\n8-9 ДД Для данног
	о события Вам\, воз
	можно\, нужно иметь следующие DL
	C/Главы:\nПасть Лорхаджа (Maw of L
	orkhaj) - DLC Гильдия воров\nЗалы фабрикаци
	и (Hall of fabrication) - Глава Морровинд\nCl
	oudrest - Глава Саммерсет\nAsylum Sanctorium - DLC C
	lockwork city Большая пр
	осьба: при записи пишем в
	 комментариях свою роль (роли)
	 и User ID (то\, что у вас в иг
	ре после @).\nЗаходи
	м в тимспик\, над
	еваем табард\, 
	чтобы быть крас
	ивым и узнаваем
	ым\, и собираемся 
	в гильд-холе.\nФа
	рмим быстро и ка
	чественно! Для че
	го\, собственно\, и
	дём: За сетами\, 
	конечно=) и другие в
	кусные и не очень с
	еты + возможность 
	выполнить weekly 
	квесты в данны
	х триалах и по
	лучить камни тра
	нсмутации (по 5 
	за каждого пер
	сонажа в кажд
	ом триале)\, м
	естные крафто
	вые мотивы и п
	рочую мишуру. 
	Приятная\, дружес
	кая\, весёлая атмосфе
	ра в комплекте=) Фразочки \"А Вы 
	точно РЛ?\" не чаще 1 раза в 5 минут
DTSTART:20181207T180000Z
ATTENDEE;CN="Ando";CUTYPE=INDIVIDUAL;PARTSTAT=ACCEPTED:web@b
	andits-clan.ru
ATTENDEE;CN="Ovsianchik";CUTYPE=INDIVIDUAL;PARTSTAT=ACCEPTED
	:web@bandits-clan.ru
ATTENDEE;CN="Canis";CUTYPE=INDIVIDUAL;PARTSTAT=ACCEPTED:web@
	bandits-clan.ru
ATTENDEE;CN="MinaevNaKone";CUTYPE=INDIVIDUAL;PARTSTAT=ACCEPT
	ED:web@bandits-clan.ru
ATTENDEE;CN="gaffer";CUTYPE=INDIVIDUAL;PARTSTAT=ACCEPTED:web
	@bandits-clan.ru
ATTENDEE;CN="Ялика";CUTYPE=INDIVIDUAL;PARTSTAT=ACCEPTED
	:web@bandits-clan.ru
ATTENDEE;CN="Tiwildorm";CUTYPE=INDIVIDUAL;PARTSTAT=ACCEPTED:
	web@bandits-clan.ru
ATTENDEE;CN="Ghost_77";CUTYPE=INDIVIDUAL;PARTSTAT=ACCEPTED:w
	eb@bandits-clan.ru
ATTENDEE;CN="Arlek1no";CUTYPE=INDIVIDUAL;PARTSTAT=ACCEPTED:w
	eb@bandits-clan.ru
ATTENDEE;CN="Cadruz";CUTYPE=INDIVIDUAL;PARTSTAT=ACCEPTED:web
	@bandits-clan.ru
END:VEVENT
END:VCALENDAR
