BEGIN:VCALENDAR
VERSION:2.0
PRODID:-//InvisionCommunity Events 4.7.14//EN
METHOD:PUBLISH
CALSCALE:GREGORIAN
REFRESH-INTERVAL:PT15M
X-PUBLISHED-TTL:PT15M
X-WR-CALNAME:The Elder Scrolls Online
NAME:The Elder Scrolls Online
BEGIN:VTIMEZONE
TZID:Europe/London
TZURL:http://tzurl.org/zoneinfo/Europe/London
X-LIC-LOCATION:Europe/London
BEGIN:DAYLIGHT
TZOFFSETFROM:+0000
TZOFFSETTO:+0100
TZNAME:BST
DTSTART:20180325T020000Z
RRULE:FREQ=YEARLY;BYMONTH=3;BYDAY=-1SU
END:DAYLIGHT
BEGIN:STANDARD
TZOFFSETFROM:+0100
TZOFFSETTO:+0000
TZNAME:GMT
DTSTART:20181028T020000Z
RRULE:FREQ=YEARLY;BYMONTH=10;BYDAY=-1SU
END:STANDARD
END:VTIMEZONE
BEGIN:VEVENT
SUMMARY:[TESO] PvP Imperial City
DTSTAMP:20181202T163934Z
SEQUENCE:0
UID:4629-1-afb15bc42254ad5fb0481ce5e9c8144d@forum.bandits-clan.ru
ORGANIZER;CN="Keshanberg":web@bandits-clan.ru
DESCRIPTION:\nИгроки 160+ за
	 Даггерфолл К
	овенант\, приходит
	е на вылазку в Импе
	рский Город!\n​Зачем нам э
	то:\n1. убьем всех на свое
	м пути (PvP)\n2. захва
	тываем флаги\, получаем 
	альянс поинты - информация о них здесь:http
	://en.uesp.net/w...Alliance_Points\n3. фармим т
	ель-вары! - информация о них здесь: http://www.t
	esonline...ones-guide-8927\n4. закрываем б
	оссов\nТребования:\nТимспик (DLC Imper
	ial City или ESO+) \nCбор в Военном Гильдхолле 
	(пкм @Keshanberg - visit primary / посет
	ить дом)\nА это ва
	м небольшая пам
	ятка\, какие троф
	еи стоит копить\, 
	а какие можно открыть по раз
	у (для ачивки) и забыть про них:\nMonstriou
	s Tooth — Agility (кольца)\nBloody Claw — Agility (оже
	релье)\nBone Shard — Willpower (кольца)\nDark Ether
	 — Willpower (ожерелье)\nMark of the Legion — Endurance (
	ожерелье)
DTSTART:20181204T173000Z
ATTENDEE;CN="Keshanberg";CUTYPE=INDIVIDUAL;PARTSTAT=ACCEPTED
	:web@bandits-clan.ru
ATTENDEE;CN="Dolphin";CUTYPE=INDIVIDUAL;PARTSTAT=ACCEPTED:we
	b@bandits-clan.ru
ATTENDEE;CN="aliasvenx";CUTYPE=INDIVIDUAL;PARTSTAT=ACCEPTED:
	web@bandits-clan.ru
ATTENDEE;CN="Aquifolius";CUTYPE=INDIVIDUAL;PARTSTAT=ACCEPTED
	:web@bandits-clan.ru
ATTENDEE;CN="Legrat";CUTYPE=INDIVIDUAL;PARTSTAT=ACCEPTED:web
	@bandits-clan.ru
END:VEVENT
END:VCALENDAR
