BEGIN:VCALENDAR
VERSION:2.0
PRODID:-//InvisionCommunity Events 4.7.14//EN
METHOD:PUBLISH
CALSCALE:GREGORIAN
REFRESH-INTERVAL:PT15M
X-PUBLISHED-TTL:PT15M
X-WR-CALNAME:The Elder Scrolls Online
NAME:The Elder Scrolls Online
BEGIN:VTIMEZONE
TZID:Europe/London
TZURL:http://tzurl.org/zoneinfo/Europe/London
X-LIC-LOCATION:Europe/London
BEGIN:DAYLIGHT
TZOFFSETFROM:+0000
TZOFFSETTO:+0100
TZNAME:BST
DTSTART:20180325T020000Z
RRULE:FREQ=YEARLY;BYMONTH=3;BYDAY=-1SU
END:DAYLIGHT
BEGIN:STANDARD
TZOFFSETFROM:+0100
TZOFFSETTO:+0000
TZNAME:GMT
DTSTART:20181028T020000Z
RRULE:FREQ=YEARLY;BYMONTH=10;BYDAY=-1SU
END:STANDARD
END:VTIMEZONE
BEGIN:VEVENT
SUMMARY:(TESO)Рейд статика \"Critical Mass\"(Второ
	й рл-Нюта)
DTSTAMP:20181202T131158Z
SEQUENCE:2
UID:4624-1-afb15bc42254ad5fb0481ce5e9c8144d@forum.bandits-clan.ru
ORGANIZER;CN="DarkVend":web@bandits-clan.ru
DESCRIPTION:В 19:00 по МСК ( Вести
	 может Нюта\, т.к
	. основной рл может от
	сувствовать. ) Собираемся на 
	рейд статика \"Critical Mass\
	". Бегаем\, фармим!\
	nОбязательно к вып
	олнению для членов ст
	атика:\n1)Сбор в гиль
	дхолле.\n2)Табард гильд
	ии.\n3)Подготовиться к р
	ейду за 10-15мин до 
	его начала.\n4)Отметиться в таб
	лице с ротацией статика- https://docs.google..
	..GfWY/edit#gid=0 (Чтобы ав
	торизироваать
	ся в таблице\,для
	 редактирования\
	,напишите на фор
	уме в лс РЛ-у.)\nАктивный спи
	сок статика можно увидеть тут http://forum.band
	its...showtopic=64045 .\nВсем удачи\, жду вас в рейде
	!\n@DarkVend
DTSTART:20181203T160000Z
ATTENDEE;CN="DarkVend";CUTYPE=INDIVIDUAL;PARTSTAT=ACCEPTED:w
	eb@bandits-clan.ru
ATTENDEE;CN="Burguk";CUTYPE=INDIVIDUAL;PARTSTAT=ACCEPTED:web
	@bandits-clan.ru
ATTENDEE;CN="Nyuta";CUTYPE=INDIVIDUAL;PARTSTAT=ACCEPTED:web@
	bandits-clan.ru
END:VEVENT
END:VCALENDAR
