BEGIN:VCALENDAR
VERSION:2.0
PRODID:-//InvisionCommunity Events 4.7.14//EN
METHOD:PUBLISH
CALSCALE:GREGORIAN
REFRESH-INTERVAL:PT15M
X-PUBLISHED-TTL:PT15M
X-WR-CALNAME:The Elder Scrolls Online
NAME:The Elder Scrolls Online
BEGIN:VTIMEZONE
TZID:Europe/London
TZURL:http://tzurl.org/zoneinfo/Europe/London
X-LIC-LOCATION:Europe/London
BEGIN:DAYLIGHT
TZOFFSETFROM:+0000
TZOFFSETTO:+0100
TZNAME:BST
DTSTART:20180325T020000Z
RRULE:FREQ=YEARLY;BYMONTH=3;BYDAY=-1SU
END:DAYLIGHT
BEGIN:STANDARD
TZOFFSETFROM:+0100
TZOFFSETTO:+0000
TZNAME:GMT
DTSTART:20181028T020000Z
RRULE:FREQ=YEARLY;BYMONTH=10;BYDAY=-1SU
END:STANDARD
END:VTIMEZONE
BEGIN:VEVENT
SUMMARY:[TESO] Учебный нормал Cloudrest +3
DTSTAMP:20181126T090215Z
SEQUENCE:2
UID:4604-1-afb15bc42254ad5fb0481ce5e9c8144d@forum.bandits-clan.ru
ORGANIZER;CN="FearFur":web@bandits-clan.ru
DESCRIPTION:В связи с тем 
	что Зосы сдела
	ли тех работы 
	в субботу\, тр
	иал переносится
	 на воскресенье. 
	Прошу отжать кн
	опочку \"Пойду\" кто 
	не сможет прийти и 
	отписаться в коментар
	ии. С 12:00 по Мск\nПриглашаются 12 ч
	еловек (звание Raider/Warrior + 2 та
	нка\, 2 хила\, остальн
	ые - дд) пройти но
	рмал + 3 версию три
	ала дополнения 
	Саммерсет - Кла
	удрест.\nДд име
	ть щиты\, соб
	ственный подх
	ил. Хилу обяз
	ательно име
	ть руну и хорошу
	ю выживаемость.
	 \nПодтвержден
	ный дпс обязателен! \n
	Камни\, ремкомплекты при
	обретайте заранее! TeamSp
	eak и табард маст-хэв.  \
	nВ комментариях\, 
	пишите свой игро
	вой ник @ \, роль и 
	нажимайте кнопочку пойду\nНа
	бор только тех\, кто был в этом триале!
DTSTART:20181202T090000Z
ATTENDEE;CN="FearFur";CUTYPE=INDIVIDUAL;PARTSTAT=ACCEPTED:we
	b@bandits-clan.ru
ATTENDEE;CN="Bandit";CUTYPE=INDIVIDUAL;PARTSTAT=ACCEPTED:web
	@bandits-clan.ru
ATTENDEE;CN="Deliri0u5";CUTYPE=INDIVIDUAL;PARTSTAT=ACCEPTED:
	web@bandits-clan.ru
ATTENDEE;CN="Krolik5280";CUTYPE=INDIVIDUAL;PARTSTAT=ACCEPTED
	:web@bandits-clan.ru
ATTENDEE;CN="dreemspot";CUTYPE=INDIVIDUAL;PARTSTAT=ACCEPTED:
	web@bandits-clan.ru
ATTENDEE;CN="Karasik";CUTYPE=INDIVIDUAL;PARTSTAT=ACCEPTED:we
	b@bandits-clan.ru
ATTENDEE;CN="Ghost_77";CUTYPE=INDIVIDUAL;PARTSTAT=ACCEPTED:w
	eb@bandits-clan.ru
ATTENDEE;CN="arxangelden";CUTYPE=INDIVIDUAL;PARTSTAT=ACCEPTE
	D:web@bandits-clan.ru
ATTENDEE;CN="XyperX";CUTYPE=INDIVIDUAL;PARTSTAT=ACCEPTED:web
	@bandits-clan.ru
ATTENDEE;CN="klotik";CUTYPE=INDIVIDUAL;PARTSTAT=ACCEPTED:web
	@bandits-clan.ru
ATTENDEE;CN="Gvistern";CUTYPE=INDIVIDUAL;PARTSTAT=ACCEPTED:w
	eb@bandits-clan.ru
ATTENDEE;CN="halloween13007";CUTYPE=INDIVIDUAL;PARTSTAT=ACCE
	PTED:web@bandits-clan.ru
ATTENDEE;CN="Слава нск";CUTYPE=INDIVIDUAL;PARTSTAT=A
	CCEPTED:web@bandits-clan.ru
ATTENDEE;CN="GKS";CUTYPE=INDIVIDUAL;PARTSTAT=ACCEPTED:web@ba
	ndits-clan.ru
END:VEVENT
END:VCALENDAR
