BEGIN:VCALENDAR
VERSION:2.0
PRODID:-//InvisionCommunity Events 4.7.14//EN
METHOD:PUBLISH
CALSCALE:GREGORIAN
REFRESH-INTERVAL:PT15M
X-PUBLISHED-TTL:PT15M
X-WR-CALNAME:The Elder Scrolls Online
NAME:The Elder Scrolls Online
BEGIN:VTIMEZONE
TZID:Europe/London
TZURL:http://tzurl.org/zoneinfo/Europe/London
X-LIC-LOCATION:Europe/London
BEGIN:DAYLIGHT
TZOFFSETFROM:+0000
TZOFFSETTO:+0100
TZNAME:BST
DTSTART:20180325T020000Z
RRULE:FREQ=YEARLY;BYMONTH=3;BYDAY=-1SU
END:DAYLIGHT
BEGIN:STANDARD
TZOFFSETFROM:+0100
TZOFFSETTO:+0000
TZNAME:GMT
DTSTART:20181028T020000Z
RRULE:FREQ=YEARLY;BYMONTH=10;BYDAY=-1SU
END:STANDARD
END:VTIMEZONE
BEGIN:VEVENT
SUMMARY:[TESO] Фарм рейдик (nSO\, vAA\, +1...)
DTSTAMP:20181126T085524Z
SEQUENCE:2
UID:4602-1-afb15bc42254ad5fb0481ce5e9c8144d@forum.bandits-clan.ru
ORGANIZER;CN="Ando":web@bandits-clan.ru
DESCRIPTION:Событие на 1\,5+ ча
	са. Нормал триалы н
	а выбор группы (н
	ет\, на мой выб
	ор  ). Количе
	ство зависи
	т от подготовл
	енности собравшегося
	 рейда.\nТребуются больши
	е и сильные (160+ CP). Отметки
	 не ставлю\, они должны у В
	ас быть.\n1-2 танка (не боль
	ше)\n2 хила (не больше)\
	n8-9 ДД Для данного с
	обытия Вам\, возможн
	о\, нужно иметь следующие DLC/Главы:
	\nПасть Лорхаджа (Maw of Lorkhaj) -
	 DLC Гильдия воров\nЗалы фабрикации
	 (Hall of fabrication) - Глава Морровинд\nClou
	drest - Глава Саммерсет\nAsylum Sanctorium - DLC C
	lockwork city Большая пр
	осьба: при записи пишем в
	 комментариях свою роль (роли)
	 и User ID (то\, что у вас в иг
	ре после @).\nЗаходи
	м в тимспик\, над
	еваем табард\, 
	чтобы быть крас
	ивым и узнаваем
	ым\, и собираемся 
	в гильд-холе.\nФа
	рмим быстро и ка
	чественно! Для чего\
	, собственно\, идём: За
	 сетами\, конечно=)\nЗемлю - крес
	тьянам\, заводы - рабочим\, D
	agger TFS - РЛу=) и друг
	ие вкусные и не очен
	ь сеты + возможност
	ь выполнить weekly
	 квесты в данны
	х триалах и по
	лучить камни тра
	нсмутации (по 5 
	за каждого пер
	сонажа в кажд
	ом триале)\, м
	естные крафто
	вые мотивы и п
	рочую мишуру. 
	Приятная\, дружес
	кая\, весёлая атмосфе
	ра в комплекте=) Фразочки \"А Вы 
	точно РЛ?\" не чаще 1 раза в 5 минут
DTSTART:20181127T180000Z
ATTENDEE;CN="Ando";CUTYPE=INDIVIDUAL;PARTSTAT=ACCEPTED:web@b
	andits-clan.ru
ATTENDEE;CN="Ялика";CUTYPE=INDIVIDUAL;PARTSTAT=ACCEPTED
	:web@bandits-clan.ru
ATTENDEE;CN="Tiwildorm";CUTYPE=INDIVIDUAL;PARTSTAT=ACCEPTED:
	web@bandits-clan.ru
ATTENDEE;CN="MinaevNaKone";CUTYPE=INDIVIDUAL;PARTSTAT=ACCEPT
	ED:web@bandits-clan.ru
ATTENDEE;CN="gaffer";CUTYPE=INDIVIDUAL;PARTSTAT=ACCEPTED:web
	@bandits-clan.ru
ATTENDEE;CN="Rendall";CUTYPE=INDIVIDUAL;PARTSTAT=ACCEPTED:we
	b@bandits-clan.ru
ATTENDEE;CN="AndreyZotov";CUTYPE=INDIVIDUAL;PARTSTAT=ACCEPTE
	D:web@bandits-clan.ru
ATTENDEE;CN="AddikSur0viy";CUTYPE=INDIVIDUAL;PARTSTAT=ACCEPT
	ED:web@bandits-clan.ru
ATTENDEE;CN="Z1eDog";CUTYPE=INDIVIDUAL;PARTSTAT=ACCEPTED:web
	@bandits-clan.ru
ATTENDEE;CN="Ghost_77";CUTYPE=INDIVIDUAL;PARTSTAT=ACCEPTED:w
	eb@bandits-clan.ru
END:VEVENT
END:VCALENDAR
