BEGIN:VCALENDAR
VERSION:2.0
PRODID:-//InvisionCommunity Events 4.7.14//EN
METHOD:PUBLISH
CALSCALE:GREGORIAN
REFRESH-INTERVAL:PT15M
X-PUBLISHED-TTL:PT15M
X-WR-CALNAME:The Elder Scrolls Online
NAME:The Elder Scrolls Online
BEGIN:VTIMEZONE
TZID:Europe/London
TZURL:http://tzurl.org/zoneinfo/Europe/London
X-LIC-LOCATION:Europe/London
BEGIN:DAYLIGHT
TZOFFSETFROM:+0000
TZOFFSETTO:+0100
TZNAME:BST
DTSTART:20180325T020000Z
RRULE:FREQ=YEARLY;BYMONTH=3;BYDAY=-1SU
END:DAYLIGHT
BEGIN:STANDARD
TZOFFSETFROM:+0100
TZOFFSETTO:+0000
TZNAME:GMT
DTSTART:20181028T020000Z
RRULE:FREQ=YEARLY;BYMONTH=10;BYDAY=-1SU
END:STANDARD
END:VTIMEZONE
BEGIN:VEVENT
SUMMARY:(TESO)Рейд статика \"Critical Mass\"
DTSTAMP:20181125T162341Z
SEQUENCE:0
UID:4591-1-afb15bc42254ad5fb0481ce5e9c8144d@forum.bandits-clan.ru
ORGANIZER;CN="DarkVend":web@bandits-clan.ru
DESCRIPTION:В 19:00 по МСК Собираемся на р
	ейд статика \"Critical Mass\
	". Проходим ДЛС тр
	иал.\nОбязательно 
	к выполнению для чл
	енов статика:\n1)Сбор
	 в гильдхолле.\n2)Табард
	 гильдии.\n3)Подготовит
	ься к рейду за 10-15ми
	н до его начала.\n4)Отметить
	ся в таблице с ротацией статика- https://docs.g
	oogle....GfWY/edit#gid=0 (Чтобы 
	авторизирова
	аться в таблице\,
	для редактирова
	ния\,напишите на
	 форуме в лс РЛ-у.)\nАктив
	ный список статика можно увидеть тут http:/
	/forum.bandits...showtopic=64045 .\nВсем удачи\, жду 
	вас в рейде!\n@DarkVend
DTSTART:20181201T160000Z
ATTENDEE;CN="DarkVend";CUTYPE=INDIVIDUAL;PARTSTAT=ACCEPTED:w
	eb@bandits-clan.ru
ATTENDEE;CN="Burguk";CUTYPE=INDIVIDUAL;PARTSTAT=ACCEPTED:web
	@bandits-clan.ru
ATTENDEE;CN="halloween13007";CUTYPE=INDIVIDUAL;PARTSTAT=ACCE
	PTED:web@bandits-clan.ru
END:VEVENT
END:VCALENDAR
