BEGIN:VCALENDAR
VERSION:2.0
PRODID:-//InvisionCommunity Events 4.7.14//EN
METHOD:PUBLISH
CALSCALE:GREGORIAN
REFRESH-INTERVAL:PT15M
X-PUBLISHED-TTL:PT15M
X-WR-CALNAME:The Elder Scrolls Online
NAME:The Elder Scrolls Online
BEGIN:VTIMEZONE
TZID:Europe/London
TZURL:http://tzurl.org/zoneinfo/Europe/London
X-LIC-LOCATION:Europe/London
BEGIN:DAYLIGHT
TZOFFSETFROM:+0000
TZOFFSETTO:+0100
TZNAME:BST
DTSTART:20180325T020000Z
RRULE:FREQ=YEARLY;BYMONTH=3;BYDAY=-1SU
END:DAYLIGHT
BEGIN:STANDARD
TZOFFSETFROM:+0100
TZOFFSETTO:+0000
TZNAME:GMT
DTSTART:20181028T020000Z
RRULE:FREQ=YEARLY;BYMONTH=10;BYDAY=-1SU
END:STANDARD
END:VTIMEZONE
BEGIN:VEVENT
SUMMARY:Дроматра сквад\, клаудрест
DTSTAMP:20181125T141442Z
SEQUENCE:0
UID:4587-1-afb15bc42254ad5fb0481ce5e9c8144d@forum.bandits-clan.ru
ORGANIZER;CN="skutn":web@bandits-clan.ru
DESCRIPTION:Среда 19.00 мск\nОТ
	ПИШИТЕСЬ ЕСЛИ ВЫ НЕ СМОЖЕТЕ 
	ПРИЙТИ!!!\nТанки:\n@вакант(скапик??)\n@mr
	achny \n@Z1eDog\n​​​Хилы:\n@Hellena02 \n@lex\nДД:\n@Ando\n@st_
	yan\n@dunerunner\n@Him\n@skutn\n@NerevarIII\n@Ildarf\nЗамена\n@Ae
	rin хил\n@Tykot хил\n@Nikvilan Ник Алексей ста
	мдд\n@hoft мана дд\n@everyone
DTSTART:20181128T160000Z
ATTENDEE;CN="Ando";CUTYPE=INDIVIDUAL;PARTSTAT=ACCEPTED:web@b
	andits-clan.ru
END:VEVENT
END:VCALENDAR
